{"text_format":"1","workbook":"xlsx","n_sheets":4,"sheets":["Calcul CB","Choix vérin lumi","Choix vérin basc","Recap vérin et trianges mâles"],"not_rendered":{"charts":0,"images":1,"macros":1,"external_links":0,"defined_names":1,"comments":1,"pivot_tables":0},"unopened":[],"bounds":{"document_bytes":16777216,"sheet_cells":100000,"rows_first":2000,"rows_last":500,"rows_between":2000,"halvings":0,"cell_chars":16384,"cell_head_chars":4096},"cells_cut":0,"cells_raw":0,"read":"whole","date_system":"1900"}

{"sheet":"Calcul CB","index":0,"n_rows":29,"n_cols":10,"rows_kept":29,"cut":false,"hidden":false,"merged":[[12,1,12,4],[12,6,12,9]]}
[null,"OUTIL DE DIMENSIONNEMENT DU TROISIEME POINT HYDRAULIQUE"]
[null,"Version 1 du 17/3/2016 par Vincent"]
[]
[]
[null,"Mesures à renseigner",null,null,null,null,"fendt","valtra"]
[null,"Mesure 1",820,null,null,null,840,800]
[null,"Mesure 2",450,null,null,null,500,420]
[null,"Mesure 3",330,null,null,null,150,225]
[null,"Mesure 4",170,null,null,null,310,100]
[null,"Mesure 5",480,null,null,null,440,590]
[null,"Mesure 6",850,null,null,null,940,780]
[]
[null,"Triangle équipé d'une lumière",null,null,null,null,"Triangle équipé d'une bascule"]
[null,null,"X","Y",null,null,null,"X","Y"]
[null,"AB (lumière)",-35,630,null,null,"AB (bascule)",-0.65,775]
[]
[null,"C",{"$f":"C8","v":330},{"$f":"C7","v":450},null,null,"C",{"$f":"C8","v":330},{"$f":"C7","v":450}]
[null,"A",{"$f":"C6","v":820},0,null,null,"A",{"$f":"C6","v":820},0]
[null,"A'",{"$f":"$C$6*COS(ATAN(ABS(D19)/$C$6))","v":767.018376135711},{"$f":"C9-C10","v":-310},null,null,"A'",{"$f":"$C$6*COS(ATAN(ABS(I19)/$C$6))","v":767.018376135711},{"$f":"C9-C10","v":-310}]
[null,"A''",{"$f":"$C$6*COS(ATAN(ABS(D20)/$C$6))","v":747.4341462896},{"$f":"C11-C10","v":370},null,null,"A''",{"$f":"$C$6*COS(ATAN(ABS(I20)/$C$6))","v":747.4341462896},{"$f":"C11-C10","v":370}]
[]
[null,"CB = CO + OA + AB","X","Y","Longueur",null,"CB = CO + OA + AB","X","Y","Longueur"]
[null,"CB (bras horizontale)",{"$f":"-C$17+C18+C$15","v":455},{"$f":"-D$17+D18+D$15","v":180},{"$f":"SQRT(C23*C23+D23*D23)","v":489.31073971455},null,"CB (bras horizontale)",{"$f":"-H$17+H18+H$15","v":489.35},{"$f":"-I$17+I18+I$15","v":325},{"$f":"SQRT(H23*H23+I23*I23)","v":587.44227163186}]
[null,"CB (bras en bas)",{"$f":"-C$17+C19+C$15","v":402.018376135711},{"$f":"-D$17+D19+D$15","v":-130},{"$f":"SQRT(C24*C24+D24*D24)","v":422.514821930301},null,"CB (bras en bas)",{"$f":"-H$17+H19+H$15","v":436.368376135711},{"$f":"-I$17+I19+I$15","v":15},{"$f":"SQRT(H24*H24+I24*I24)","v":436.6261097224}]
[null,"CB (bras en haut)",{"$f":"-C$17+C20+C$15","v":382.4341462896},{"$f":"-D$17+D20+D$15","v":550},{"$f":"SQRT(C25*C25+D25*D25)","v":669.892436327098},null,"CB (bras en haut)",{"$f":"-H$17+H20+H$15","v":416.7841462896},{"$f":"-I$17+I20+I$15","v":695},{"$f":"SQRT(H25*H25+I25*I25)","v":810.391278703289}]
[]
[null,"CB est la distance entre les points d'attache du troisième point pour que le triangle soit vertical"]
[null,"Le vérin doit être choisi pour que CB = lo + 1/2 x c   (lo : longueur min du vérin ; c : course du vérin)"]
[null,"Exprimé autrement, il faut que le vérin soit à mi-course lorsque le triangle est vertical."]

{"sheet":"Choix vérin lumi","index":1,"n_rows":74,"n_cols":33,"rows_kept":74,"cut":false,"hidden":false,"merged":[[0,1,1,12],[3,13,3,18],[3,20,3,25],[3,27,3,32],[4,6,4,11],[4,13,4,14],[4,15,4,16],[4,17,4,18],[4,20,4,21],[4,22,4,23],[4,24,4,25],[4,27,4,28],[4,29,4,30],[4,31,4,32],[5,6,5,7],[5,8,5,9],[5,10,5,11],[21,1,21,13],[21,15,21,23],[21,25,21,33],[23,0,45,0],[48,0,70,0],[73,0,95,0]]}
["Les vérins sont soit :","!!!! NE SURTOUT PAS AJOUTER DE LIGNES EN AMONT DES BOUTONS !!!",null,null,null,null,null,null,null,null,null,null,null,"||AB||²","Xca","Yca","||CA||²",null,null,null,"||AB||²","Xca","Yca","||CA||²",null,null,null,"||AB||²","Xca","Yca","||CA||²"]
[" - équipés : flexibles et clapet anti-retour inclus",null,null,null,null,null,null,null,null,null,null,null,null,{"$f":"('Calcul CB'!$C$15*'Calcul CB'!$C$15+'Calcul CB'!$D$15*'Calcul CB'!$D$15)","v":398125},{"$f":"'Calcul CB'!C18-'Calcul CB'!$C$17","v":490},{"$f":"'Calcul CB'!D18-'Calcul CB'!$D$17","v":-450},{"$f":"(O2*O2+P2*P2)","v":442600},null,null,null,{"$f":"('Calcul CB'!$C$15*'Calcul CB'!$C$15+'Calcul CB'!$D$15*'Calcul CB'!$D$15)","v":398125},{"$f":"'Calcul CB'!C19-'Calcul CB'!$C$17","v":437.018376135711},{"$f":"'Calcul CB'!D19-'Calcul CB'!$D$17","v":-760},{"$f":"(V2*V2+W2*W2)","v":768585.061080294},null,null,null,{"$f":"('Calcul CB'!$C$15*'Calcul CB'!$C$15+'Calcul CB'!$D$15*'Calcul CB'!$D$15)","v":398125},{"$f":"'Calcul CB'!C20-'Calcul CB'!$C$17","v":417.4341462896},{"$f":"'Calcul CB'!D20-'Calcul CB'!$D$17","v":-80},{"$f":"(AC2*AC2+AD2*AD2)","v":180651.266488528}]
[" - sans flexibles : clapet anti-retour inclus, flexibles (ref: TOP9H0900) à commander en plus"]
[" - nu : flexibles (ref: TOP9H0900) ET clapet (ref: TOP912063A) à commander en plus",null,null,null,null,null,null,null,null,null,null,null,null,"Horizontale  (coordonnées point B)",null,null,null,null,null,null,"bas",null,null,null,null,null,null,"haut"]
[null,null,null,null,null,null,"Lumière (CB - ( lo +0,5c) )",null,null,null,null,null,"Générer dessins :","rentré",null,"mi-course",null,"sorti",null,null,"rentré",null,"mi-course",null,"sorti",null,null,"rentré",null,"mi-course",null,"sorti"]
["Désignation AP","catégorie","lo","c","ref",null,"horizontale",null,"bas",null,"haut",null,null,"X","Y","X","Y","X","Y",null,"X","Y","X","Y","X","Y",null,"X","Y","X","Y","X","Y"]
[null,2,480,160,null,null,{"$f":"'Calcul CB'!$E$23-('Choix vérin lumi'!$C7+0.5*'Choix vérin lumi'!$D7)","v":-70.6892602854501},{"$f":"ABS(G7)","v":70.6892602854501},{"$f":"'Calcul CB'!$E$24-('Choix vérin lumi'!$C7+0.5*'Choix vérin lumi'!$D7)","v":-137.485178069699},{"$f":"ABS(I7)","v":137.485178069699},{"$f":"'Calcul CB'!$E$25-('Choix vérin lumi'!$C7+0.5*'Choix vérin lumi'!$D7)","v":109.892436327098},{"$f":"ABS(K7)","v":109.892436327098},null,{"$f":"'Calcul CB'!$C$17+$C7*COS(ACOS(($C7*$C7+$Q$2-$N$2)/(2*$C7*SQRT($Q$2)))-ATAN(ABS($P$2)/$O$2))","v":775.221971186501},{"$f":"'Calcul CB'!$D$17+$C7*SIN(ACOS(($C7*$C7+$Q$2-$N$2)/(2*$C7*SQRT($Q$2)))-ATAN(ABS($P$2)/$O$2))","v":629.380590847523},{"$f":"'Calcul CB'!$C$17+($C7+$D7*0.5)*COS(ACOS((($C7+$D7*0.5)*($C7+$D7*0.5)+$Q$2-$N$2)/(2*($C7+$D7*0.5)*SQRT($Q$2)))-ATAN(ABS($P$2)/$O$2))","v":860.392384211664},{"$f":"'Calcul CB'!$D$17+($C7+$D7*0.5)*SIN(ACOS((($C7+$D7*0.5)*($C7+$D7*0.5)+$Q$2-$N$2)/(2*($C7+$D7*0.5)*SQRT($Q$2)))-ATAN(ABS($P$2)/$O$2))","v":629.677262808256},{"$f":"'Calcul CB'!$C$17+($C7+$D7)*COS(ACOS((($C7+$D7)*($C7+$D7)+$Q$2-$N$2)/(2*($C7+$D7)*SQRT($Q$2)))-ATAN(ABS($P$2)/$O$2))","v":947.572715496104},{"$f":"'Calcul CB'!$D$17+($C7+$D7)*SIN(ACOS((($C7+$D7)*($C7+$D7)+$Q$2-$N$2)/(2*($C7+$D7)*SQRT($Q$2)))-ATAN(ABS($P$2)/$O$2))","v":617.940290206869},{"$f":"(H7+J7+L7)/3","v":106.022291560749},{"$f":"'Calcul CB'!$C$17+$C7*COS(ACOS(($C7*$C7+$X$2-$U$2)/(2*$C7*SQRT($X$2)))-ATAN(ABS($W$2)/$V$2))","v":792.192322678518},{"$f":"'Calcul CB'!$D$17+$C7*SIN(ACOS(($C7*$C7+$X$2-$U$2)/(2*$C7*SQRT($X$2)))-ATAN(ABS($W$2)/$V$2))","v":320.469089183173},{"$f":"'Calcul CB'!$C$17+($C7+$D7*0.5)*COS(ACOS((($C7+$D7*0.5)*($C7+$D7*0.5)+$X$2-$U$2)/(2*($C7+$D7*0.5)*SQRT($X$2)))-ATAN(ABS($W$2)/$V$2))","v":872.743068621839},{"$f":"'Calcul CB'!$D$17+($C7+$D7*0.5)*SIN(ACOS((($C7+$D7*0.5)*($C7+$D7*0.5)+$X$2-$U$2)/(2*($C7+$D7*0.5)*SQRT($X$2)))-ATAN(ABS($W$2)/$V$2))","v":312.05087364195},{"$f":"'Calcul CB'!$C$17+($C7+$D7)*COS(ACOS((($C7+$D7)*($C7+$D7)+$X$2-$U$2)/(2*($C7+$D7)*SQRT($X$2)))-ATAN(ABS($W$2)/$V$2))","v":950.613431421928},{"$f":"'Calcul CB'!$D$17+($C7+$D7)*SIN(ACOS((($C7+$D7)*($C7+$D7)+$X$2-$U$2)/(2*($C7+$D7)*SQRT($X$2)))-ATAN(ABS($W$2)/$V$2))","v":293.670320352468},null,{"$f":"'Calcul CB'!$C$17+$C7*COS(ACOS(($C7*$C7+$AE$2-$AB$2)/(2*$C7*SQRT($AE$2)))-ATAN(ABS($AD$2)/$AC$2))","v":435.235503715149},{"$f":"'Calcul CB'!$D$17+$C7*SIN(ACOS(($C7*$C7+$AE$2-$AB$2)/(2*$C7*SQRT($AE$2)))-ATAN(ABS($AD$2)/$AC$2))","v":918.321992605321},{"$f":"'Calcul CB'!$C$17+($C7+$D7*0.5)*COS(ACOS((($C7+$D7*0.5)*($C7+$D7*0.5)+$AE$2-$AB$2)/(2*($C7+$D7*0.5)*SQRT($AE$2)))-ATAN(ABS($AD$2)/$AC$2))","v":544.293095311016},{"$f":"'Calcul CB'!$D$17+($C7+$D7*0.5)*SIN(ACOS((($C7+$D7*0.5)*($C7+$D7*0.5)+$AE$2-$AB$2)/(2*($C7+$D7*0.5)*SQRT($AE$2)))-ATAN(ABS($AD$2)/$AC$2))","v":967.376525658078},{"$f":"'Calcul CB'!$C$17+($C7+$D7)*COS(ACOS((($C7+$D7)*($C7+$D7)+$AE$2-$AB$2)/(2*($C7+$D7)*SQRT($AE$2)))-ATAN(ABS($AD$2)/$AC$2))","v":664.67500519003},{"$f":"'Calcul CB'!$D$17+($C7+$D7)*SIN(ACOS((($C7+$D7)*($C7+$D7)+$AE$2-$AB$2)/(2*($C7+$D7)*SQRT($AE$2)))-ATAN(ABS($AD$2)/$AC$2))","v":995.520522896301}]
["Vérin sans flexible, R/R, cat2, l0=550mm, c=285mm",2,550,285,"TEVNN305028522",null,{"$f":"'Calcul CB'!$E$23-('Choix vérin lumi'!$C8+0.5*'Choix vérin lumi'!$D8)","v":-203.18926028545},{"$f":"ABS(G8)","v":203.18926028545},{"$f":"'Calcul CB'!$E$24-('Choix vérin lumi'!$C8+0.5*'Choix vérin lumi'!$D8)","v":-269.985178069699},{"$f":"ABS(I8)","v":269.985178069699},{"$f":"'Calcul CB'!$E$25-('Choix vérin lumi'!$C8+0.5*'Choix vérin lumi'!$D8)","v":-22.6075636729016},{"$f":"ABS(K8)","v":22.6075636729016},null,{"$f":"'Calcul CB'!$C$17+$C8*COS(ACOS(($C8*$C8+$Q$2-$N$2)/(2*$C8*SQRT($Q$2)))-ATAN(ABS($P$2)/$O$2))","v":849.615765472806},{"$f":"'Calcul CB'!$D$17+$C8*SIN(ACOS(($C8*$C8+$Q$2-$N$2)/(2*$C8*SQRT($Q$2)))-ATAN(ABS($P$2)/$O$2))","v":630.276055737055},{"$f":"'Calcul CB'!$C$17+($C8+$D8*0.5)*COS(ACOS((($C8+$D8*0.5)*($C8+$D8*0.5)+$Q$2-$N$2)/(2*($C8+$D8*0.5)*SQRT($Q$2)))-ATAN(ABS($P$2)/$O$2))","v":1005.35689774538},{"$f":"'Calcul CB'!$D$17+($C8+$D8*0.5)*SIN(ACOS((($C8+$D8*0.5)*($C8+$D8*0.5)+$Q$2-$N$2)/(2*($C8+$D8*0.5)*SQRT($Q$2)))-ATAN(ABS($P$2)/$O$2))","v":603.131677544969},{"$f":"'Calcul CB'!$C$17+($C8+$D8)*COS(ACOS((($C8+$D8)*($C8+$D8)+$Q$2-$N$2)/(2*($C8+$D8)*SQRT($Q$2)))-ATAN(ABS($P$2)/$O$2))","v":1161.07755025331},{"$f":"'Calcul CB'!$D$17+($C8+$D8)*SIN(ACOS((($C8+$D8)*($C8+$D8)+$Q$2-$N$2)/(2*($C8+$D8)*SQRT($Q$2)))-ATAN(ABS($P$2)/$O$2))","v":530.839999164719},{"$f":"(H8+J8+L8)/3","v":165.260667342684},{"$f":"'Calcul CB'!$C$17+$C8*COS(ACOS(($C8*$C8+$X$2-$U$2)/(2*$C8*SQRT($X$2)))-ATAN(ABS($W$2)/$V$2))","v":862.831931169476},{"$f":"'Calcul CB'!$D$17+$C8*SIN(ACOS(($C8*$C8+$X$2-$U$2)/(2*$C8*SQRT($X$2)))-ATAN(ABS($W$2)/$V$2))","v":313.654361543148},{"$f":"'Calcul CB'!$C$17+($C8+$D8*0.5)*COS(ACOS((($C8+$D8*0.5)*($C8+$D8*0.5)+$X$2-$U$2)/(2*($C8+$D8*0.5)*SQRT($X$2)))-ATAN(ABS($W$2)/$V$2))","v":1000.34714682729},{"$f":"'Calcul CB'!$D$17+($C8+$D8*0.5)*SIN(ACOS((($C8+$D8*0.5)*($C8+$D8*0.5)+$X$2-$U$2)/(2*($C8+$D8*0.5)*SQRT($X$2)))-ATAN(ABS($W$2)/$V$2))","v":276.244560544109},{"$f":"'Calcul CB'!$C$17+($C8+$D8)*COS(ACOS((($C8+$D8)*($C8+$D8)+$X$2-$U$2)/(2*($C8+$D8)*SQRT($X$2)))-ATAN(ABS($W$2)/$V$2))","v":1128.83668062305},{"$f":"'Calcul CB'!$D$17+($C8+$D8)*SIN(ACOS((($C8+$D8)*($C8+$D8)+$X$2-$U$2)/(2*($C8+$D8)*SQRT($X$2)))-ATAN(ABS($W$2)/$V$2))","v":206.92602424129},null,{"$f":"'Calcul CB'!$C$17+$C8*COS(ACOS(($C8*$C8+$AE$2-$AB$2)/(2*$C8*SQRT($AE$2)))-ATAN(ABS($AD$2)/$AC$2))","v":530.031442224679},{"$f":"'Calcul CB'!$D$17+$C8*SIN(ACOS(($C8*$C8+$AE$2-$AB$2)/(2*$C8*SQRT($AE$2)))-ATAN(ABS($AD$2)/$AC$2))","v":962.335263398407},{"$f":"'Calcul CB'!$C$17+($C8+$D8*0.5)*COS(ACOS((($C8+$D8*0.5)*($C8+$D8*0.5)+$AE$2-$AB$2)/(2*($C8+$D8*0.5)*SQRT($AE$2)))-ATAN(ABS($AD$2)/$AC$2))","v":749.512164756434},{"$f":"'Calcul CB'!$D$17+($C8+$D8*0.5)*SIN(ACOS((($C8+$D8*0.5)*($C8+$D8*0.5)+$AE$2-$AB$2)/(2*($C8+$D8*0.5)*SQRT($AE$2)))-ATAN(ABS($AD$2)/$AC$2))","v":1000.96805136176},{"$f":"'Calcul CB'!$C$17+($C8+$D8)*COS(ACOS((($C8+$D8)*($C8+$D8)+$AE$2-$AB$2)/(2*($C8+$D8)*SQRT($AE$2)))-ATAN(ABS($AD$2)/$AC$2))","v":1000.11529065847},{"$f":"'Calcul CB'!$D$17+($C8+$D8)*SIN(ACOS((($C8+$D8)*($C8+$D8)+$AE$2-$AB$2)/(2*($C8+$D8)*SQRT($AE$2)))-ATAN(ABS($AD$2)/$AC$2))","v":948.167137842025}]
["Vérin nu, R/R, cat2, l0=610mm, c=350mm",2,610,350,"TENNN305035022",null,{"$f":"'Calcul CB'!$E$23-('Choix vérin lumi'!$C9+0.5*'Choix vérin lumi'!$D9)","v":-295.68926028545},{"$f":"ABS(G9)","v":295.68926028545},{"$f":"'Calcul CB'!$E$24-('Choix vérin lumi'!$C9+0.5*'Choix vérin lumi'!$D9)","v":-362.485178069699},{"$f":"ABS(I9)","v":362.485178069699},{"$f":"'Calcul CB'!$E$25-('Choix vérin lumi'!$C9+0.5*'Choix vérin lumi'!$D9)","v":-115.107563672902},{"$f":"ABS(K9)","v":115.107563672902},null,{"$f":"'Calcul CB'!$C$17+$C9*COS(ACOS(($C9*$C9+$Q$2-$N$2)/(2*$C9*SQRT($Q$2)))-ATAN(ABS($P$2)/$O$2))","v":914.709833293461},{"$f":"'Calcul CB'!$D$17+$C9*SIN(ACOS(($C9*$C9+$Q$2-$N$2)/(2*$C9*SQRT($Q$2)))-ATAN(ABS($P$2)/$O$2))","v":623.822929586213},{"$f":"'Calcul CB'!$C$17+($C9+$D9*0.5)*COS(ACOS((($C9+$D9*0.5)*($C9+$D9*0.5)+$Q$2-$N$2)/(2*($C9+$D9*0.5)*SQRT($Q$2)))-ATAN(ABS($P$2)/$O$2))","v":1106.97883685861},{"$f":"'Calcul CB'!$D$17+($C9+$D9*0.5)*SIN(ACOS((($C9+$D9*0.5)*($C9+$D9*0.5)+$Q$2-$N$2)/(2*($C9+$D9*0.5)*SQRT($Q$2)))-ATAN(ABS($P$2)/$O$2))","v":561.93251124604},{"$f":"'Calcul CB'!$C$17+($C9+$D9)*COS(ACOS((($C9+$D9)*($C9+$D9)+$Q$2-$N$2)/(2*($C9+$D9)*SQRT($Q$2)))-ATAN(ABS($P$2)/$O$2))","v":1289.57550561309},{"$f":"'Calcul CB'!$D$17+($C9+$D9)*SIN(ACOS((($C9+$D9)*($C9+$D9)+$Q$2-$N$2)/(2*($C9+$D9)*SQRT($Q$2)))-ATAN(ABS($P$2)/$O$2))","v":421.454439445367},{"$f":"(H9+J9+L9)/3","v":257.760667342683},{"$f":"'Calcul CB'!$C$17+$C9*COS(ACOS(($C9*$C9+$X$2-$U$2)/(2*$C9*SQRT($X$2)))-ATAN(ABS($W$2)/$V$2))","v":921.702766865419},{"$f":"'Calcul CB'!$D$17+$C9*SIN(ACOS(($C9*$C9+$X$2-$U$2)/(2*$C9*SQRT($X$2)))-ATAN(ABS($W$2)/$V$2))","v":301.717041829455},{"$f":"'Calcul CB'!$C$17+($C9+$D9*0.5)*COS(ACOS((($C9+$D9*0.5)*($C9+$D9*0.5)+$X$2-$U$2)/(2*($C9+$D9*0.5)*SQRT($X$2)))-ATAN(ABS($W$2)/$V$2))","v":1084.9830438227},{"$f":"'Calcul CB'!$D$17+($C9+$D9*0.5)*SIN(ACOS((($C9+$D9*0.5)*($C9+$D9*0.5)+$X$2-$U$2)/(2*($C9+$D9*0.5)*SQRT($X$2)))-ATAN(ABS($W$2)/$V$2))","v":234.998596422691},{"$f":"'Calcul CB'!$C$17+($C9+$D9)*COS(ACOS((($C9+$D9)*($C9+$D9)+$X$2-$U$2)/(2*($C9+$D9)*SQRT($X$2)))-ATAN(ABS($W$2)/$V$2))","v":1230.72746074444},{"$f":"'Calcul CB'!$D$17+($C9+$D9)*SIN(ACOS((($C9+$D9)*($C9+$D9)+$X$2-$U$2)/(2*($C9+$D9)*SQRT($X$2)))-ATAN(ABS($W$2)/$V$2))","v":117.900554862147},null,{"$f":"'Calcul CB'!$C$17+$C9*COS(ACOS(($C9*$C9+$AE$2-$AB$2)/(2*$C9*SQRT($AE$2)))-ATAN(ABS($AD$2)/$AC$2))","v":618.240452396217},{"$f":"'Calcul CB'!$D$17+$C9*SIN(ACOS(($C9*$C9+$AE$2-$AB$2)/(2*$C9*SQRT($AE$2)))-ATAN(ABS($AD$2)/$AC$2))","v":987.603424098493},{"$f":"'Calcul CB'!$C$17+($C9+$D9*0.5)*COS(ACOS((($C9+$D9*0.5)*($C9+$D9*0.5)+$AE$2-$AB$2)/(2*($C9+$D9*0.5)*SQRT($AE$2)))-ATAN(ABS($AD$2)/$AC$2))","v":909.173521599244},{"$f":"'Calcul CB'!$D$17+($C9+$D9*0.5)*SIN(ACOS((($C9+$D9*0.5)*($C9+$D9*0.5)+$AE$2-$AB$2)/(2*($C9+$D9*0.5)*SQRT($AE$2)))-ATAN(ABS($AD$2)/$AC$2))","v":979.889641225727},{"$f":"'Calcul CB'!$C$17+($C9+$D9)*COS(ACOS((($C9+$D9)*($C9+$D9)+$AE$2-$AB$2)/(2*($C9+$D9)*SQRT($AE$2)))-ATAN(ABS($AD$2)/$AC$2))","v":1234.85558951424},{"$f":"'Calcul CB'!$D$17+($C9+$D9)*SIN(ACOS((($C9+$D9)*($C9+$D9)+$AE$2-$AB$2)/(2*($C9+$D9)*SQRT($AE$2)))-ATAN(ABS($AD$2)/$AC$2))","v":770.681090999825}]
["Vérin équipé, R/R, cat1, l0=440mm, c=200mm",1,440,200,"TEVHN305020011",null,{"$f":"'Calcul CB'!$E$23-('Choix vérin lumi'!$C10+0.5*'Choix vérin lumi'!$D10)","v":-50.6892602854501},{"$f":"ABS(G10)","v":50.6892602854501},{"$f":"'Calcul CB'!$E$24-('Choix vérin lumi'!$C10+0.5*'Choix vérin lumi'!$D10)","v":-117.485178069699},{"$f":"ABS(I10)","v":117.485178069699},{"$f":"'Calcul CB'!$E$25-('Choix vérin lumi'!$C10+0.5*'Choix vérin lumi'!$D10)","v":129.892436327098},{"$f":"ABS(K10)","v":129.892436327098},null,{"$f":"'Calcul CB'!$C$17+$C10*COS(ACOS(($C10*$C10+$Q$2-$N$2)/(2*$C10*SQRT($Q$2)))-ATAN(ABS($P$2)/$O$2))","v":733.684413143681},{"$f":"'Calcul CB'!$D$17+$C10*SIN(ACOS(($C10*$C10+$Q$2-$N$2)/(2*$C10*SQRT($Q$2)))-ATAN(ABS($P$2)/$O$2))","v":625.039694312009},{"$f":"'Calcul CB'!$C$17+($C10+$D10*0.5)*COS(ACOS((($C10+$D10*0.5)*($C10+$D10*0.5)+$Q$2-$N$2)/(2*($C10+$D10*0.5)*SQRT($Q$2)))-ATAN(ABS($P$2)/$O$2))","v":838.872701310998},{"$f":"'Calcul CB'!$D$17+($C10+$D10*0.5)*SIN(ACOS((($C10+$D10*0.5)*($C10+$D10*0.5)+$Q$2-$N$2)/(2*($C10+$D10*0.5)*SQRT($Q$2)))-ATAN(ABS($P$2)/$O$2))","v":630.689163649754},{"$f":"'Calcul CB'!$C$17+($C10+$D10)*COS(ACOS((($C10+$D10)*($C10+$D10)+$Q$2-$N$2)/(2*($C10+$D10)*SQRT($Q$2)))-ATAN(ABS($P$2)/$O$2))","v":947.572715496104},{"$f":"'Calcul CB'!$D$17+($C10+$D10)*SIN(ACOS((($C10+$D10)*($C10+$D10)+$Q$2-$N$2)/(2*($C10+$D10)*SQRT($Q$2)))-ATAN(ABS($P$2)/$O$2))","v":617.940290206869},{"$f":"(H10+J10+L10)/3","v":99.3556248940824},{"$f":"'Calcul CB'!$C$17+$C10*COS(ACOS(($C10*$C10+$X$2-$U$2)/(2*$C10*SQRT($X$2)))-ATAN(ABS($W$2)/$V$2))","v":750.59053381239},{"$f":"'Calcul CB'!$D$17+$C10*SIN(ACOS(($C10*$C10+$X$2-$U$2)/(2*$C10*SQRT($X$2)))-ATAN(ABS($W$2)/$V$2))","v":320.757581006047},{"$f":"'Calcul CB'!$C$17+($C10+$D10*0.5)*COS(ACOS((($C10+$D10*0.5)*($C10+$D10*0.5)+$X$2-$U$2)/(2*($C10+$D10*0.5)*SQRT($X$2)))-ATAN(ABS($W$2)/$V$2))","v":852.879163024913},{"$f":"'Calcul CB'!$D$17+($C10+$D10*0.5)*SIN(ACOS((($C10+$D10*0.5)*($C10+$D10*0.5)+$X$2-$U$2)/(2*($C10+$D10*0.5)*SQRT($X$2)))-ATAN(ABS($W$2)/$V$2))","v":315.102331842369},{"$f":"'Calcul CB'!$C$17+($C10+$D10)*COS(ACOS((($C10+$D10)*($C10+$D10)+$X$2-$U$2)/(2*($C10+$D10)*SQRT($X$2)))-ATAN(ABS($W$2)/$V$2))","v":950.613431421928},{"$f":"'Calcul CB'!$D$17+($C10+$D10)*SIN(ACOS((($C10+$D10)*($C10+$D10)+$X$2-$U$2)/(2*($C10+$D10)*SQRT($X$2)))-ATAN(ABS($W$2)/$V$2))","v":293.670320352468},null,{"$f":"'Calcul CB'!$C$17+$C10*COS(ACOS(($C10*$C10+$AE$2-$AB$2)/(2*$C10*SQRT($AE$2)))-ATAN(ABS($AD$2)/$AC$2))","v":385.06589761496},{"$f":"'Calcul CB'!$D$17+$C10*SIN(ACOS(($C10*$C10+$AE$2-$AB$2)/(2*$C10*SQRT($AE$2)))-ATAN(ABS($AD$2)/$AC$2))","v":886.540658953847},{"$f":"'Calcul CB'!$C$17+($C10+$D10*0.5)*COS(ACOS((($C10+$D10*0.5)*($C10+$D10*0.5)+$AE$2-$AB$2)/(2*($C10+$D10*0.5)*SQRT($AE$2)))-ATAN(ABS($AD$2)/$AC$2))","v":515.948143705265},{"$f":"'Calcul CB'!$D$17+($C10+$D10*0.5)*SIN(ACOS((($C10+$D10*0.5)*($C10+$D10*0.5)+$AE$2-$AB$2)/(2*($C10+$D10*0.5)*SQRT($AE$2)))-ATAN(ABS($AD$2)/$AC$2))","v":956.97464221849},{"$f":"'Calcul CB'!$C$17+($C10+$D10)*COS(ACOS((($C10+$D10)*($C10+$D10)+$AE$2-$AB$2)/(2*($C10+$D10)*SQRT($AE$2)))-ATAN(ABS($AD$2)/$AC$2))","v":664.67500519003},{"$f":"'Calcul CB'!$D$17+($C10+$D10)*SIN(ACOS((($C10+$D10)*($C10+$D10)+$AE$2-$AB$2)/(2*($C10+$D10)*SQRT($AE$2)))-ATAN(ABS($AD$2)/$AC$2))","v":995.520522896301}]
["Vérin sans flexible, R/C, cat2, l0=590mm, c=285mm",2,590,285,"TCVNN305028522",null,{"$f":"'Calcul CB'!$E$23-('Choix vérin lumi'!$C11+0.5*'Choix vérin lumi'!$D11)","v":-243.18926028545},{"$f":"ABS(G11)","v":243.18926028545},{"$f":"'Calcul CB'!$E$24-('Choix vérin lumi'!$C11+0.5*'Choix vérin lumi'!$D11)","v":-309.985178069699},{"$f":"ABS(I11)","v":309.985178069699},{"$f":"'Calcul CB'!$E$25-('Choix vérin lumi'!$C11+0.5*'Choix vérin lumi'!$D11)","v":-62.6075636729016},{"$f":"ABS(K11)","v":62.6075636729016},null,{"$f":"'Calcul CB'!$C$17+$C11*COS(ACOS(($C11*$C11+$Q$2-$N$2)/(2*$C11*SQRT($Q$2)))-ATAN(ABS($P$2)/$O$2))","v":892.904083931329},{"$f":"'Calcul CB'!$D$17+$C11*SIN(ACOS(($C11*$C11+$Q$2-$N$2)/(2*$C11*SQRT($Q$2)))-ATAN(ABS($P$2)/$O$2))","v":626.745558058558},{"$f":"'Calcul CB'!$C$17+($C11+$D11*0.5)*COS(ACOS((($C11+$D11*0.5)*($C11+$D11*0.5)+$Q$2-$N$2)/(2*($C11+$D11*0.5)*SQRT($Q$2)))-ATAN(ABS($P$2)/$O$2))","v":1049.42476760416},{"$f":"'Calcul CB'!$D$17+($C11+$D11*0.5)*SIN(ACOS((($C11+$D11*0.5)*($C11+$D11*0.5)+$Q$2-$N$2)/(2*($C11+$D11*0.5)*SQRT($Q$2)))-ATAN(ABS($P$2)/$O$2))","v":587.783358057863},{"$f":"'Calcul CB'!$C$17+($C11+$D11)*COS(ACOS((($C11+$D11)*($C11+$D11)+$Q$2-$N$2)/(2*($C11+$D11)*SQRT($Q$2)))-ATAN(ABS($P$2)/$O$2))","v":1203.50987475813},{"$f":"'Calcul CB'!$D$17+($C11+$D11)*SIN(ACOS((($C11+$D11)*($C11+$D11)+$Q$2-$N$2)/(2*($C11+$D11)*SQRT($Q$2)))-ATAN(ABS($P$2)/$O$2))","v":501.044085847744},{"$f":"(H11+J11+L11)/3","v":205.260667342684},{"$f":"'Calcul CB'!$C$17+$C11*COS(ACOS(($C11*$C11+$X$2-$U$2)/(2*$C11*SQRT($X$2)))-ATAN(ABS($W$2)/$V$2))","v":902.23590489211},{"$f":"'Calcul CB'!$D$17+$C11*SIN(ACOS(($C11*$C11+$X$2-$U$2)/(2*$C11*SQRT($X$2)))-ATAN(ABS($W$2)/$V$2))","v":306.312599187306},{"$f":"'Calcul CB'!$C$17+($C11+$D11*0.5)*COS(ACOS((($C11+$D11*0.5)*($C11+$D11*0.5)+$X$2-$U$2)/(2*($C11+$D11*0.5)*SQRT($X$2)))-ATAN(ABS($W$2)/$V$2))","v":1037.45082616492},{"$f":"'Calcul CB'!$D$17+($C11+$D11*0.5)*SIN(ACOS((($C11+$D11*0.5)*($C11+$D11*0.5)+$X$2-$U$2)/(2*($C11+$D11*0.5)*SQRT($X$2)))-ATAN(ABS($W$2)/$V$2))","v":260.080073297779},{"$f":"'Calcul CB'!$C$17+($C11+$D11)*COS(ACOS((($C11+$D11)*($C11+$D11)+$X$2-$U$2)/(2*($C11+$D11)*SQRT($X$2)))-ATAN(ABS($W$2)/$V$2))","v":1162.76546658132},{"$f":"'Calcul CB'!$D$17+($C11+$D11)*SIN(ACOS((($C11+$D11)*($C11+$D11)+$X$2-$U$2)/(2*($C11+$D11)*SQRT($X$2)))-ATAN(ABS($W$2)/$V$2))","v":181.435896535685},null,{"$f":"'Calcul CB'!$C$17+$C11*COS(ACOS(($C11*$C11+$AE$2-$AB$2)/(2*$C11*SQRT($AE$2)))-ATAN(ABS($AD$2)/$AC$2))","v":588.138264177686},{"$f":"'Calcul CB'!$D$17+$C11*SIN(ACOS(($C11*$C11+$AE$2-$AB$2)/(2*$C11*SQRT($AE$2)))-ATAN(ABS($AD$2)/$AC$2))","v":980.53240859285},{"$f":"'Calcul CB'!$C$17+($C11+$D11*0.5)*COS(ACOS((($C11+$D11*0.5)*($C11+$D11*0.5)+$AE$2-$AB$2)/(2*($C11+$D11*0.5)*SQRT($AE$2)))-ATAN(ABS($AD$2)/$AC$2))","v":817.04883265848},{"$f":"'Calcul CB'!$D$17+($C11+$D11*0.5)*SIN(ACOS((($C11+$D11*0.5)*($C11+$D11*0.5)+$AE$2-$AB$2)/(2*($C11+$D11*0.5)*SQRT($AE$2)))-ATAN(ABS($AD$2)/$AC$2))","v":997.119442723444},{"$f":"'Calcul CB'!$C$17+($C11+$D11)*COS(ACOS((($C11+$D11)*($C11+$D11)+$AE$2-$AB$2)/(2*($C11+$D11)*SQRT($AE$2)))-ATAN(ABS($AD$2)/$AC$2))","v":1074.63474319346},{"$f":"'Calcul CB'!$D$17+($C11+$D11)*SIN(ACOS((($C11+$D11)*($C11+$D11)+$AE$2-$AB$2)/(2*($C11+$D11)*SQRT($AE$2)))-ATAN(ABS($AD$2)/$AC$2))","v":909.50418847842}]
["Vérin nu, R/R, cat1, l0=550mm, c=285mm",1,550,285,"TENNN305028511",null,{"$f":"'Calcul CB'!$E$23-('Choix vérin lumi'!$C12+0.5*'Choix vérin lumi'!$D12)","v":-203.18926028545},{"$f":"ABS(G12)","v":203.18926028545},{"$f":"'Calcul CB'!$E$24-('Choix vérin lumi'!$C12+0.5*'Choix vérin lumi'!$D12)","v":-269.985178069699},{"$f":"ABS(I12)","v":269.985178069699},{"$f":"'Calcul CB'!$E$25-('Choix vérin lumi'!$C12+0.5*'Choix vérin lumi'!$D12)","v":-22.6075636729016},{"$f":"ABS(K12)","v":22.6075636729016},null,{"$f":"'Calcul CB'!$C$17+$C12*COS(ACOS(($C12*$C12+$Q$2-$N$2)/(2*$C12*SQRT($Q$2)))-ATAN(ABS($P$2)/$O$2))","v":849.615765472806},{"$f":"'Calcul CB'!$D$17+$C12*SIN(ACOS(($C12*$C12+$Q$2-$N$2)/(2*$C12*SQRT($Q$2)))-ATAN(ABS($P$2)/$O$2))","v":630.276055737055},{"$f":"'Calcul CB'!$C$17+($C12+$D12*0.5)*COS(ACOS((($C12+$D12*0.5)*($C12+$D12*0.5)+$Q$2-$N$2)/(2*($C12+$D12*0.5)*SQRT($Q$2)))-ATAN(ABS($P$2)/$O$2))","v":1005.35689774538},{"$f":"'Calcul CB'!$D$17+($C12+$D12*0.5)*SIN(ACOS((($C12+$D12*0.5)*($C12+$D12*0.5)+$Q$2-$N$2)/(2*($C12+$D12*0.5)*SQRT($Q$2)))-ATAN(ABS($P$2)/$O$2))","v":603.131677544969},{"$f":"'Calcul CB'!$C$17+($C12+$D12)*COS(ACOS((($C12+$D12)*($C12+$D12)+$Q$2-$N$2)/(2*($C12+$D12)*SQRT($Q$2)))-ATAN(ABS($P$2)/$O$2))","v":1161.07755025331},{"$f":"'Calcul CB'!$D$17+($C12+$D12)*SIN(ACOS((($C12+$D12)*($C12+$D12)+$Q$2-$N$2)/(2*($C12+$D12)*SQRT($Q$2)))-ATAN(ABS($P$2)/$O$2))","v":530.839999164719},{"$f":"(H12+J12+L12)/3","v":165.260667342684},{"$f":"'Calcul CB'!$C$17+$C12*COS(ACOS(($C12*$C12+$X$2-$U$2)/(2*$C12*SQRT($X$2)))-ATAN(ABS($W$2)/$V$2))","v":862.831931169476},{"$f":"'Calcul CB'!$D$17+$C12*SIN(ACOS(($C12*$C12+$X$2-$U$2)/(2*$C12*SQRT($X$2)))-ATAN(ABS($W$2)/$V$2))","v":313.654361543148},{"$f":"'Calcul CB'!$C$17+($C12+$D12*0.5)*COS(ACOS((($C12+$D12*0.5)*($C12+$D12*0.5)+$X$2-$U$2)/(2*($C12+$D12*0.5)*SQRT($X$2)))-ATAN(ABS($W$2)/$V$2))","v":1000.34714682729},{"$f":"'Calcul CB'!$D$17+($C12+$D12*0.5)*SIN(ACOS((($C12+$D12*0.5)*($C12+$D12*0.5)+$X$2-$U$2)/(2*($C12+$D12*0.5)*SQRT($X$2)))-ATAN(ABS($W$2)/$V$2))","v":276.244560544109},{"$f":"'Calcul CB'!$C$17+($C12+$D12)*COS(ACOS((($C12+$D12)*($C12+$D12)+$X$2-$U$2)/(2*($C12+$D12)*SQRT($X$2)))-ATAN(ABS($W$2)/$V$2))","v":1128.83668062305},{"$f":"'Calcul CB'!$D$17+($C12+$D12)*SIN(ACOS((($C12+$D12)*($C12+$D12)+$X$2-$U$2)/(2*($C12+$D12)*SQRT($X$2)))-ATAN(ABS($W$2)/$V$2))","v":206.92602424129},null,{"$f":"'Calcul CB'!$C$17+$C12*COS(ACOS(($C12*$C12+$AE$2-$AB$2)/(2*$C12*SQRT($AE$2)))-ATAN(ABS($AD$2)/$AC$2))","v":530.031442224679},{"$f":"'Calcul CB'!$D$17+$C12*SIN(ACOS(($C12*$C12+$AE$2-$AB$2)/(2*$C12*SQRT($AE$2)))-ATAN(ABS($AD$2)/$AC$2))","v":962.335263398407},{"$f":"'Calcul CB'!$C$17+($C12+$D12*0.5)*COS(ACOS((($C12+$D12*0.5)*($C12+$D12*0.5)+$AE$2-$AB$2)/(2*($C12+$D12*0.5)*SQRT($AE$2)))-ATAN(ABS($AD$2)/$AC$2))","v":749.512164756434},{"$f":"'Calcul CB'!$D$17+($C12+$D12*0.5)*SIN(ACOS((($C12+$D12*0.5)*($C12+$D12*0.5)+$AE$2-$AB$2)/(2*($C12+$D12*0.5)*SQRT($AE$2)))-ATAN(ABS($AD$2)/$AC$2))","v":1000.96805136176},{"$f":"'Calcul CB'!$C$17+($C12+$D12)*COS(ACOS((($C12+$D12)*($C12+$D12)+$AE$2-$AB$2)/(2*($C12+$D12)*SQRT($AE$2)))-ATAN(ABS($AD$2)/$AC$2))","v":1000.11529065847},{"$f":"'Calcul CB'!$D$17+($C12+$D12)*SIN(ACOS((($C12+$D12)*($C12+$D12)+$AE$2-$AB$2)/(2*($C12+$D12)*SQRT($AE$2)))-ATAN(ABS($AD$2)/$AC$2))","v":948.167137842025}]
["Vérin équipé, R/R, cat1, l0=390mm, c=150mm",1,390,150,"TEVHN305015011",null,{"$f":"'Calcul CB'!$E$23-('Choix vérin lumi'!$C13+0.5*'Choix vérin lumi'!$D13)","v":24.3107397145499},{"$f":"ABS(G13)","v":24.3107397145499},{"$f":"'Calcul CB'!$E$24-('Choix vérin lumi'!$C13+0.5*'Choix vérin lumi'!$D13)","v":-42.4851780696988},{"$f":"ABS(I13)","v":42.4851780696988},{"$f":"'Calcul CB'!$E$25-('Choix vérin lumi'!$C13+0.5*'Choix vérin lumi'!$D13)","v":204.892436327098},{"$f":"ABS(K13)","v":204.892436327098},null,{"$f":"'Calcul CB'!$C$17+$C13*COS(ACOS(($C13*$C13+$Q$2-$N$2)/(2*$C13*SQRT($Q$2)))-ATAN(ABS($P$2)/$O$2))","v":682.951195130294},{"$f":"'Calcul CB'!$D$17+$C13*SIN(ACOS(($C13*$C13+$Q$2-$N$2)/(2*$C13*SQRT($Q$2)))-ATAN(ABS($P$2)/$O$2))","v":615.907968030765},{"$f":"'Calcul CB'!$C$17+($C13+$D13*0.5)*COS(ACOS((($C13+$D13*0.5)*($C13+$D13*0.5)+$Q$2-$N$2)/(2*($C13+$D13*0.5)*SQRT($Q$2)))-ATAN(ABS($P$2)/$O$2))","v":759.553573215564},{"$f":"'Calcul CB'!$D$17+($C13+$D13*0.5)*SIN(ACOS((($C13+$D13*0.5)*($C13+$D13*0.5)+$Q$2-$N$2)/(2*($C13+$D13*0.5)*SQRT($Q$2)))-ATAN(ABS($P$2)/$O$2))","v":628.069446390281},{"$f":"'Calcul CB'!$C$17+($C13+$D13)*COS(ACOS((($C13+$D13)*($C13+$D13)+$Q$2-$N$2)/(2*($C13+$D13)*SQRT($Q$2)))-ATAN(ABS($P$2)/$O$2))","v":838.872701310998},{"$f":"'Calcul CB'!$D$17+($C13+$D13)*SIN(ACOS((($C13+$D13)*($C13+$D13)+$Q$2-$N$2)/(2*($C13+$D13)*SQRT($Q$2)))-ATAN(ABS($P$2)/$O$2))","v":630.689163649754},{"$f":"(H13+J13+L13)/3","v":90.5627847037824},{"$f":"'Calcul CB'!$C$17+$C13*COS(ACOS(($C13*$C13+$X$2-$U$2)/(2*$C13*SQRT($X$2)))-ATAN(ABS($W$2)/$V$2))","v":696.633184226564},{"$f":"'Calcul CB'!$D$17+$C13*SIN(ACOS(($C13*$C13+$X$2-$U$2)/(2*$C13*SQRT($X$2)))-ATAN(ABS($W$2)/$V$2))","v":317.033431931594},{"$f":"'Calcul CB'!$C$17+($C13+$D13*0.5)*COS(ACOS((($C13+$D13*0.5)*($C13+$D13*0.5)+$X$2-$U$2)/(2*($C13+$D13*0.5)*SQRT($X$2)))-ATAN(ABS($W$2)/$V$2))","v":776.718470140753},{"$f":"'Calcul CB'!$D$17+($C13+$D13*0.5)*SIN(ACOS((($C13+$D13*0.5)*($C13+$D13*0.5)+$X$2-$U$2)/(2*($C13+$D13*0.5)*SQRT($X$2)))-ATAN(ABS($W$2)/$V$2))","v":320.896907724466},{"$f":"'Calcul CB'!$C$17+($C13+$D13)*COS(ACOS((($C13+$D13)*($C13+$D13)+$X$2-$U$2)/(2*($C13+$D13)*SQRT($X$2)))-ATAN(ABS($W$2)/$V$2))","v":852.879163024913},{"$f":"'Calcul CB'!$D$17+($C13+$D13)*SIN(ACOS((($C13+$D13)*($C13+$D13)+$X$2-$U$2)/(2*($C13+$D13)*SQRT($X$2)))-ATAN(ABS($W$2)/$V$2))","v":315.102331842369},null,{"$f":"'Calcul CB'!$C$17+$C13*COS(ACOS(($C13*$C13+$AE$2-$AB$2)/(2*$C13*SQRT($AE$2)))-ATAN(ABS($AD$2)/$AC$2))","v":326.434957855575},{"$f":"'Calcul CB'!$D$17+$C13*SIN(ACOS(($C13*$C13+$AE$2-$AB$2)/(2*$C13*SQRT($AE$2)))-ATAN(ABS($AD$2)/$AC$2))","v":839.983705396147},{"$f":"'Calcul CB'!$C$17+($C13+$D13*0.5)*COS(ACOS((($C13+$D13*0.5)*($C13+$D13*0.5)+$AE$2-$AB$2)/(2*($C13+$D13*0.5)*SQRT($AE$2)))-ATAN(ABS($AD$2)/$AC$2))","v":416.079875905436},{"$f":"'Calcul CB'!$D$17+($C13+$D13*0.5)*SIN(ACOS((($C13+$D13*0.5)*($C13+$D13*0.5)+$AE$2-$AB$2)/(2*($C13+$D13*0.5)*SQRT($AE$2)))-ATAN(ABS($AD$2)/$AC$2))","v":906.96307833796},{"$f":"'Calcul CB'!$C$17+($C13+$D13)*COS(ACOS((($C13+$D13)*($C13+$D13)+$AE$2-$AB$2)/(2*($C13+$D13)*SQRT($AE$2)))-ATAN(ABS($AD$2)/$AC$2))","v":515.948143705265},{"$f":"'Calcul CB'!$D$17+($C13+$D13)*SIN(ACOS((($C13+$D13)*($C13+$D13)+$AE$2-$AB$2)/(2*($C13+$D13)*SQRT($AE$2)))-ATAN(ABS($AD$2)/$AC$2))","v":956.97464221849}]
["Vérin nu, R/R, cat2, l0=580mm, c=300mm",2,580,300,"TENNN356030022",null,{"$f":"'Calcul CB'!$E$23-('Choix vérin lumi'!$C14+0.5*'Choix vérin lumi'!$D14)","v":-240.68926028545},{"$f":"ABS(G14)","v":240.68926028545},{"$f":"'Calcul CB'!$E$24-('Choix vérin lumi'!$C14+0.5*'Choix vérin lumi'!$D14)","v":-307.485178069699},{"$f":"ABS(I14)","v":307.485178069699},{"$f":"'Calcul CB'!$E$25-('Choix vérin lumi'!$C14+0.5*'Choix vérin lumi'!$D14)","v":-60.1075636729016},{"$f":"ABS(K14)","v":60.1075636729016},null,{"$f":"'Calcul CB'!$C$17+$C14*COS(ACOS(($C14*$C14+$Q$2-$N$2)/(2*$C14*SQRT($Q$2)))-ATAN(ABS($P$2)/$O$2))","v":882.038534678614},{"$f":"'Calcul CB'!$D$17+$C14*SIN(ACOS(($C14*$C14+$Q$2-$N$2)/(2*$C14*SQRT($Q$2)))-ATAN(ABS($P$2)/$O$2))","v":627.914182205602},{"$f":"'Calcul CB'!$C$17+($C14+$D14*0.5)*COS(ACOS((($C14+$D14*0.5)*($C14+$D14*0.5)+$Q$2-$N$2)/(2*($C14+$D14*0.5)*SQRT($Q$2)))-ATAN(ABS($P$2)/$O$2))","v":1046.67336325134},{"$f":"'Calcul CB'!$D$17+($C14+$D14*0.5)*SIN(ACOS((($C14+$D14*0.5)*($C14+$D14*0.5)+$Q$2-$N$2)/(2*($C14+$D14*0.5)*SQRT($Q$2)))-ATAN(ABS($P$2)/$O$2))","v":588.849884429237},{"$f":"'Calcul CB'!$C$17+($C14+$D14)*COS(ACOS((($C14+$D14)*($C14+$D14)+$Q$2-$N$2)/(2*($C14+$D14)*SQRT($Q$2)))-ATAN(ABS($P$2)/$O$2))","v":1208.74432075762},{"$f":"'Calcul CB'!$D$17+($C14+$D14)*SIN(ACOS((($C14+$D14)*($C14+$D14)+$Q$2-$N$2)/(2*($C14+$D14)*SQRT($Q$2)))-ATAN(ABS($P$2)/$O$2))","v":496.993815936072},{"$f":"(H14+J14+L14)/3","v":202.760667342683},{"$f":"'Calcul CB'!$C$17+$C14*COS(ACOS(($C14*$C14+$X$2-$U$2)/(2*$C14*SQRT($X$2)))-ATAN(ABS($W$2)/$V$2))","v":892.444362179064},{"$f":"'Calcul CB'!$D$17+$C14*SIN(ACOS(($C14*$C14+$X$2-$U$2)/(2*$C14*SQRT($X$2)))-ATAN(ABS($W$2)/$V$2))","v":308.379593797412},{"$f":"'Calcul CB'!$C$17+($C14+$D14*0.5)*COS(ACOS((($C14+$D14*0.5)*($C14+$D14*0.5)+$X$2-$U$2)/(2*($C14+$D14*0.5)*SQRT($X$2)))-ATAN(ABS($W$2)/$V$2))","v":1035.15323925502},{"$f":"'Calcul CB'!$D$17+($C14+$D14*0.5)*SIN(ACOS((($C14+$D14*0.5)*($C14+$D14*0.5)+$X$2-$U$2)/(2*($C14+$D14*0.5)*SQRT($X$2)))-ATAN(ABS($W$2)/$V$2))","v":261.164332902526},{"$f":"'Calcul CB'!$C$17+($C14+$D14)*COS(ACOS((($C14+$D14)*($C14+$D14)+$X$2-$U$2)/(2*($C14+$D14)*SQRT($X$2)))-ATAN(ABS($W$2)/$V$2))","v":1166.926689475},{"$f":"'Calcul CB'!$D$17+($C14+$D14)*SIN(ACOS((($C14+$D14)*($C14+$D14)+$X$2-$U$2)/(2*($C14+$D14)*SQRT($X$2)))-ATAN(ABS($W$2)/$V$2))","v":178.055673998493},null,{"$f":"'Calcul CB'!$C$17+$C14*COS(ACOS(($C14*$C14+$AE$2-$AB$2)/(2*$C14*SQRT($AE$2)))-ATAN(ABS($AD$2)/$AC$2))","v":573.347584511706},{"$f":"'Calcul CB'!$D$17+$C14*SIN(ACOS(($C14*$C14+$AE$2-$AB$2)/(2*$C14*SQRT($AE$2)))-ATAN(ABS($AD$2)/$AC$2))","v":976.480724350207},{"$f":"'Calcul CB'!$C$17+($C14+$D14*0.5)*COS(ACOS((($C14+$D14*0.5)*($C14+$D14*0.5)+$AE$2-$AB$2)/(2*($C14+$D14*0.5)*SQRT($AE$2)))-ATAN(ABS($AD$2)/$AC$2))","v":812.757840674826},{"$f":"'Calcul CB'!$D$17+($C14+$D14*0.5)*SIN(ACOS((($C14+$D14*0.5)*($C14+$D14*0.5)+$AE$2-$AB$2)/(2*($C14+$D14*0.5)*SQRT($AE$2)))-ATAN(ABS($AD$2)/$AC$2))","v":997.580923030541},{"$f":"'Calcul CB'!$C$17+($C14+$D14)*COS(ACOS((($C14+$D14)*($C14+$D14)+$AE$2-$AB$2)/(2*($C14+$D14)*SQRT($AE$2)))-ATAN(ABS($AD$2)/$AC$2))","v":1084.03150653695},{"$f":"'Calcul CB'!$D$17+($C14+$D14)*SIN(ACOS((($C14+$D14)*($C14+$D14)+$AE$2-$AB$2)/(2*($C14+$D14)*SQRT($AE$2)))-ATAN(ABS($AD$2)/$AC$2))","v":903.692062030637}]
["Vérin nu, R/R, cat2, l0=440mm, c=200mm",2,440,200,"TENNN305020022",null,{"$f":"'Calcul CB'!$E$23-('Choix vérin lumi'!$C15+0.5*'Choix vérin lumi'!$D15)","v":-50.6892602854501},{"$f":"ABS(G15)","v":50.6892602854501},{"$f":"'Calcul CB'!$E$24-('Choix vérin lumi'!$C15+0.5*'Choix vérin lumi'!$D15)","v":-117.485178069699},{"$f":"ABS(I15)","v":117.485178069699},{"$f":"'Calcul CB'!$E$25-('Choix vérin lumi'!$C15+0.5*'Choix vérin lumi'!$D15)","v":129.892436327098},{"$f":"ABS(K15)","v":129.892436327098},null,{"$f":"'Calcul CB'!$C$17+$C15*COS(ACOS(($C15*$C15+$Q$2-$N$2)/(2*$C15*SQRT($Q$2)))-ATAN(ABS($P$2)/$O$2))","v":733.684413143681},{"$f":"'Calcul CB'!$D$17+$C15*SIN(ACOS(($C15*$C15+$Q$2-$N$2)/(2*$C15*SQRT($Q$2)))-ATAN(ABS($P$2)/$O$2))","v":625.039694312009},{"$f":"'Calcul CB'!$C$17+($C15+$D15*0.5)*COS(ACOS((($C15+$D15*0.5)*($C15+$D15*0.5)+$Q$2-$N$2)/(2*($C15+$D15*0.5)*SQRT($Q$2)))-ATAN(ABS($P$2)/$O$2))","v":838.872701310998},{"$f":"'Calcul CB'!$D$17+($C15+$D15*0.5)*SIN(ACOS((($C15+$D15*0.5)*($C15+$D15*0.5)+$Q$2-$N$2)/(2*($C15+$D15*0.5)*SQRT($Q$2)))-ATAN(ABS($P$2)/$O$2))","v":630.689163649754},{"$f":"'Calcul CB'!$C$17+($C15+$D15)*COS(ACOS((($C15+$D15)*($C15+$D15)+$Q$2-$N$2)/(2*($C15+$D15)*SQRT($Q$2)))-ATAN(ABS($P$2)/$O$2))","v":947.572715496104},{"$f":"'Calcul CB'!$D$17+($C15+$D15)*SIN(ACOS((($C15+$D15)*($C15+$D15)+$Q$2-$N$2)/(2*($C15+$D15)*SQRT($Q$2)))-ATAN(ABS($P$2)/$O$2))","v":617.940290206869},{"$f":"(H15+J15+L15)/3","v":99.3556248940824},{"$f":"'Calcul CB'!$C$17+$C15*COS(ACOS(($C15*$C15+$X$2-$U$2)/(2*$C15*SQRT($X$2)))-ATAN(ABS($W$2)/$V$2))","v":750.59053381239},{"$f":"'Calcul CB'!$D$17+$C15*SIN(ACOS(($C15*$C15+$X$2-$U$2)/(2*$C15*SQRT($X$2)))-ATAN(ABS($W$2)/$V$2))","v":320.757581006047},{"$f":"'Calcul CB'!$C$17+($C15+$D15*0.5)*COS(ACOS((($C15+$D15*0.5)*($C15+$D15*0.5)+$X$2-$U$2)/(2*($C15+$D15*0.5)*SQRT($X$2)))-ATAN(ABS($W$2)/$V$2))","v":852.879163024913},{"$f":"'Calcul CB'!$D$17+($C15+$D15*0.5)*SIN(ACOS((($C15+$D15*0.5)*($C15+$D15*0.5)+$X$2-$U$2)/(2*($C15+$D15*0.5)*SQRT($X$2)))-ATAN(ABS($W$2)/$V$2))","v":315.102331842369},{"$f":"'Calcul CB'!$C$17+($C15+$D15)*COS(ACOS((($C15+$D15)*($C15+$D15)+$X$2-$U$2)/(2*($C15+$D15)*SQRT($X$2)))-ATAN(ABS($W$2)/$V$2))","v":950.613431421928},{"$f":"'Calcul CB'!$D$17+($C15+$D15)*SIN(ACOS((($C15+$D15)*($C15+$D15)+$X$2-$U$2)/(2*($C15+$D15)*SQRT($X$2)))-ATAN(ABS($W$2)/$V$2))","v":293.670320352468},null,{"$f":"'Calcul CB'!$C$17+$C15*COS(ACOS(($C15*$C15+$AE$2-$AB$2)/(2*$C15*SQRT($AE$2)))-ATAN(ABS($AD$2)/$AC$2))","v":385.06589761496},{"$f":"'Calcul CB'!$D$17+$C15*SIN(ACOS(($C15*$C15+$AE$2-$AB$2)/(2*$C15*SQRT($AE$2)))-ATAN(ABS($AD$2)/$AC$2))","v":886.540658953847},{"$f":"'Calcul CB'!$C$17+($C15+$D15*0.5)*COS(ACOS((($C15+$D15*0.5)*($C15+$D15*0.5)+$AE$2-$AB$2)/(2*($C15+$D15*0.5)*SQRT($AE$2)))-ATAN(ABS($AD$2)/$AC$2))","v":515.948143705265},{"$f":"'Calcul CB'!$D$17+($C15+$D15*0.5)*SIN(ACOS((($C15+$D15*0.5)*($C15+$D15*0.5)+$AE$2-$AB$2)/(2*($C15+$D15*0.5)*SQRT($AE$2)))-ATAN(ABS($AD$2)/$AC$2))","v":956.97464221849},{"$f":"'Calcul CB'!$C$17+($C15+$D15)*COS(ACOS((($C15+$D15)*($C15+$D15)+$AE$2-$AB$2)/(2*($C15+$D15)*SQRT($AE$2)))-ATAN(ABS($AD$2)/$AC$2))","v":664.67500519003},{"$f":"'Calcul CB'!$D$17+($C15+$D15)*SIN(ACOS((($C15+$D15)*($C15+$D15)+$AE$2-$AB$2)/(2*($C15+$D15)*SQRT($AE$2)))-ATAN(ABS($AD$2)/$AC$2))","v":995.520522896301}]
["Vérin sans flexible, R/R, cat.2, l0=550mm, c=250mm",2,550,250,"TEVNN356025022",null,{"$f":"'Calcul CB'!$E$23-('Choix vérin lumi'!$C16+0.5*'Choix vérin lumi'!$D16)","v":-185.68926028545},{"$f":"ABS(G16)","v":185.68926028545},{"$f":"'Calcul CB'!$E$24-('Choix vérin lumi'!$C16+0.5*'Choix vérin lumi'!$D16)","v":-252.485178069699},{"$f":"ABS(I16)","v":252.485178069699},{"$f":"'Calcul CB'!$E$25-('Choix vérin lumi'!$C16+0.5*'Choix vérin lumi'!$D16)","v":-5.10756367290162},{"$f":"ABS(K16)","v":5.10756367290162},null,{"$f":"'Calcul CB'!$C$17+$C16*COS(ACOS(($C16*$C16+$Q$2-$N$2)/(2*$C16*SQRT($Q$2)))-ATAN(ABS($P$2)/$O$2))","v":849.615765472806},{"$f":"'Calcul CB'!$D$17+$C16*SIN(ACOS(($C16*$C16+$Q$2-$N$2)/(2*$C16*SQRT($Q$2)))-ATAN(ABS($P$2)/$O$2))","v":630.276055737055},{"$f":"'Calcul CB'!$C$17+($C16+$D16*0.5)*COS(ACOS((($C16+$D16*0.5)*($C16+$D16*0.5)+$Q$2-$N$2)/(2*($C16+$D16*0.5)*SQRT($Q$2)))-ATAN(ABS($P$2)/$O$2))","v":986.072958775886},{"$f":"'Calcul CB'!$D$17+($C16+$D16*0.5)*SIN(ACOS((($C16+$D16*0.5)*($C16+$D16*0.5)+$Q$2-$N$2)/(2*($C16+$D16*0.5)*SQRT($Q$2)))-ATAN(ABS($P$2)/$O$2))","v":608.723888444854},{"$f":"'Calcul CB'!$C$17+($C16+$D16)*COS(ACOS((($C16+$D16)*($C16+$D16)+$Q$2-$N$2)/(2*($C16+$D16)*SQRT($Q$2)))-ATAN(ABS($P$2)/$O$2))","v":1123.30372331802},{"$f":"'Calcul CB'!$D$17+($C16+$D16)*SIN(ACOS((($C16+$D16)*($C16+$D16)+$Q$2-$N$2)/(2*($C16+$D16)*SQRT($Q$2)))-ATAN(ABS($P$2)/$O$2))","v":553.291832057395},{"$f":"(H16+J16+L16)/3","v":147.760667342684},{"$f":"'Calcul CB'!$C$17+$C16*COS(ACOS(($C16*$C16+$X$2-$U$2)/(2*$C16*SQRT($X$2)))-ATAN(ABS($W$2)/$V$2))","v":862.831931169476},{"$f":"'Calcul CB'!$D$17+$C16*SIN(ACOS(($C16*$C16+$X$2-$U$2)/(2*$C16*SQRT($X$2)))-ATAN(ABS($W$2)/$V$2))","v":313.654361543148},{"$f":"'Calcul CB'!$C$17+($C16+$D16*0.5)*COS(ACOS((($C16+$D16*0.5)*($C16+$D16*0.5)+$X$2-$U$2)/(2*($C16+$D16*0.5)*SQRT($X$2)))-ATAN(ABS($W$2)/$V$2))","v":983.894640823626},{"$f":"'Calcul CB'!$D$17+($C16+$D16*0.5)*SIN(ACOS((($C16+$D16*0.5)*($C16+$D16*0.5)+$X$2-$U$2)/(2*($C16+$D16*0.5)*SQRT($X$2)))-ATAN(ABS($W$2)/$V$2))","v":282.528215205839},{"$f":"'Calcul CB'!$C$17+($C16+$D16)*COS(ACOS((($C16+$D16)*($C16+$D16)+$X$2-$U$2)/(2*($C16+$D16)*SQRT($X$2)))-ATAN(ABS($W$2)/$V$2))","v":1098.29427822784},{"$f":"'Calcul CB'!$D$17+($C16+$D16)*SIN(ACOS((($C16+$D16)*($C16+$D16)+$X$2-$U$2)/(2*($C16+$D16)*SQRT($X$2)))-ATAN(ABS($W$2)/$V$2))","v":227.011430691237},null,{"$f":"'Calcul CB'!$C$17+$C16*COS(ACOS(($C16*$C16+$AE$2-$AB$2)/(2*$C16*SQRT($AE$2)))-ATAN(ABS($AD$2)/$AC$2))","v":530.031442224679},{"$f":"'Calcul CB'!$D$17+$C16*SIN(ACOS(($C16*$C16+$AE$2-$AB$2)/(2*$C16*SQRT($AE$2)))-ATAN(ABS($AD$2)/$AC$2))","v":962.335263398407},{"$f":"'Calcul CB'!$C$17+($C16+$D16*0.5)*COS(ACOS((($C16+$D16*0.5)*($C16+$D16*0.5)+$AE$2-$AB$2)/(2*($C16+$D16*0.5)*SQRT($AE$2)))-ATAN(ABS($AD$2)/$AC$2))","v":720.739853142283},{"$f":"'Calcul CB'!$D$17+($C16+$D16*0.5)*SIN(ACOS((($C16+$D16*0.5)*($C16+$D16*0.5)+$AE$2-$AB$2)/(2*($C16+$D16*0.5)*SQRT($AE$2)))-ATAN(ABS($AD$2)/$AC$2))","v":1000.40654716886},{"$f":"'Calcul CB'!$C$17+($C16+$D16)*COS(ACOS((($C16+$D16)*($C16+$D16)+$AE$2-$AB$2)/(2*($C16+$D16)*SQRT($AE$2)))-ATAN(ABS($AD$2)/$AC$2))","v":936.155776771846},{"$f":"'Calcul CB'!$D$17+($C16+$D16)*SIN(ACOS((($C16+$D16)*($C16+$D16)+$AE$2-$AB$2)/(2*($C16+$D16)*SQRT($AE$2)))-ATAN(ABS($AD$2)/$AC$2))","v":972.08732438752}]
["Vérin nu, R/R, cat.2, l0=580mm, c=300mm",2,580,300,"TENNN356030022",null,{"$f":"'Calcul CB'!$E$23-('Choix vérin lumi'!$C17+0.5*'Choix vérin lumi'!$D17)","v":-240.68926028545},{"$f":"ABS(G17)","v":240.68926028545},{"$f":"'Calcul CB'!$E$24-('Choix vérin lumi'!$C17+0.5*'Choix vérin lumi'!$D17)","v":-307.485178069699},{"$f":"ABS(I17)","v":307.485178069699},{"$f":"'Calcul CB'!$E$25-('Choix vérin lumi'!$C17+0.5*'Choix vérin lumi'!$D17)","v":-60.1075636729016},{"$f":"ABS(K17)","v":60.1075636729016},null,{"$f":"'Calcul CB'!$C$17+$C17*COS(ACOS(($C17*$C17+$Q$2-$N$2)/(2*$C17*SQRT($Q$2)))-ATAN(ABS($P$2)/$O$2))","v":882.038534678614},{"$f":"'Calcul CB'!$D$17+$C17*SIN(ACOS(($C17*$C17+$Q$2-$N$2)/(2*$C17*SQRT($Q$2)))-ATAN(ABS($P$2)/$O$2))","v":627.914182205602},{"$f":"'Calcul CB'!$C$17+($C17+$D17*0.5)*COS(ACOS((($C17+$D17*0.5)*($C17+$D17*0.5)+$Q$2-$N$2)/(2*($C17+$D17*0.5)*SQRT($Q$2)))-ATAN(ABS($P$2)/$O$2))","v":1046.67336325134},{"$f":"'Calcul CB'!$D$17+($C17+$D17*0.5)*SIN(ACOS((($C17+$D17*0.5)*($C17+$D17*0.5)+$Q$2-$N$2)/(2*($C17+$D17*0.5)*SQRT($Q$2)))-ATAN(ABS($P$2)/$O$2))","v":588.849884429237},{"$f":"'Calcul CB'!$C$17+($C17+$D17)*COS(ACOS((($C17+$D17)*($C17+$D17)+$Q$2-$N$2)/(2*($C17+$D17)*SQRT($Q$2)))-ATAN(ABS($P$2)/$O$2))","v":1208.74432075762},{"$f":"'Calcul CB'!$D$17+($C17+$D17)*SIN(ACOS((($C17+$D17)*($C17+$D17)+$Q$2-$N$2)/(2*($C17+$D17)*SQRT($Q$2)))-ATAN(ABS($P$2)/$O$2))","v":496.993815936072},{"$f":"(H17+J17+L17)/3","v":202.760667342683},{"$f":"'Calcul CB'!$C$17+$C17*COS(ACOS(($C17*$C17+$X$2-$U$2)/(2*$C17*SQRT($X$2)))-ATAN(ABS($W$2)/$V$2))","v":892.444362179064},{"$f":"'Calcul CB'!$D$17+$C17*SIN(ACOS(($C17*$C17+$X$2-$U$2)/(2*$C17*SQRT($X$2)))-ATAN(ABS($W$2)/$V$2))","v":308.379593797412},{"$f":"'Calcul CB'!$C$17+($C17+$D17*0.5)*COS(ACOS((($C17+$D17*0.5)*($C17+$D17*0.5)+$X$2-$U$2)/(2*($C17+$D17*0.5)*SQRT($X$2)))-ATAN(ABS($W$2)/$V$2))","v":1035.15323925502},{"$f":"'Calcul CB'!$D$17+($C17+$D17*0.5)*SIN(ACOS((($C17+$D17*0.5)*($C17+$D17*0.5)+$X$2-$U$2)/(2*($C17+$D17*0.5)*SQRT($X$2)))-ATAN(ABS($W$2)/$V$2))","v":261.164332902526},{"$f":"'Calcul CB'!$C$17+($C17+$D17)*COS(ACOS((($C17+$D17)*($C17+$D17)+$X$2-$U$2)/(2*($C17+$D17)*SQRT($X$2)))-ATAN(ABS($W$2)/$V$2))","v":1166.926689475},{"$f":"'Calcul CB'!$D$17+($C17+$D17)*SIN(ACOS((($C17+$D17)*($C17+$D17)+$X$2-$U$2)/(2*($C17+$D17)*SQRT($X$2)))-ATAN(ABS($W$2)/$V$2))","v":178.055673998493},null,{"$f":"'Calcul CB'!$C$17+$C17*COS(ACOS(($C17*$C17+$AE$2-$AB$2)/(2*$C17*SQRT($AE$2)))-ATAN(ABS($AD$2)/$AC$2))","v":573.347584511706},{"$f":"'Calcul CB'!$D$17+$C17*SIN(ACOS(($C17*$C17+$AE$2-$AB$2)/(2*$C17*SQRT($AE$2)))-ATAN(ABS($AD$2)/$AC$2))","v":976.480724350207},{"$f":"'Calcul CB'!$C$17+($C17+$D17*0.5)*COS(ACOS((($C17+$D17*0.5)*($C17+$D17*0.5)+$AE$2-$AB$2)/(2*($C17+$D17*0.5)*SQRT($AE$2)))-ATAN(ABS($AD$2)/$AC$2))","v":812.757840674826},{"$f":"'Calcul CB'!$D$17+($C17+$D17*0.5)*SIN(ACOS((($C17+$D17*0.5)*($C17+$D17*0.5)+$AE$2-$AB$2)/(2*($C17+$D17*0.5)*SQRT($AE$2)))-ATAN(ABS($AD$2)/$AC$2))","v":997.580923030541},{"$f":"'Calcul CB'!$C$17+($C17+$D17)*COS(ACOS((($C17+$D17)*($C17+$D17)+$AE$2-$AB$2)/(2*($C17+$D17)*SQRT($AE$2)))-ATAN(ABS($AD$2)/$AC$2))","v":1084.03150653695},{"$f":"'Calcul CB'!$D$17+($C17+$D17)*SIN(ACOS((($C17+$D17)*($C17+$D17)+$AE$2-$AB$2)/(2*($C17+$D17)*SQRT($AE$2)))-ATAN(ABS($AD$2)/$AC$2))","v":903.692062030637}]
["Vérin sans flexible, R/C, cat.1, l0=490mm, c=200mm",1,490,200,"TCVNN305020011",null,{"$f":"'Calcul CB'!$E$23-('Choix vérin lumi'!$C18+0.5*'Choix vérin lumi'!$D18)","v":-100.68926028545},{"$f":"ABS(G18)","v":100.68926028545},{"$f":"'Calcul CB'!$E$24-('Choix vérin lumi'!$C18+0.5*'Choix vérin lumi'!$D18)","v":-167.485178069699},{"$f":"ABS(I18)","v":167.485178069699},{"$f":"'Calcul CB'!$E$25-('Choix vérin lumi'!$C18+0.5*'Choix vérin lumi'!$D18)","v":79.8924363270984},{"$f":"ABS(K18)","v":79.8924363270984},null,{"$f":"'Calcul CB'!$C$17+$C18*COS(ACOS(($C18*$C18+$Q$2-$N$2)/(2*$C18*SQRT($Q$2)))-ATAN(ABS($P$2)/$O$2))","v":785.725401077396},{"$f":"'Calcul CB'!$D$17+$C18*SIN(ACOS(($C18*$C18+$Q$2-$N$2)/(2*$C18*SQRT($Q$2)))-ATAN(ABS($P$2)/$O$2))","v":630.039881173164},{"$f":"'Calcul CB'!$C$17+($C18+$D18*0.5)*COS(ACOS((($C18+$D18*0.5)*($C18+$D18*0.5)+$Q$2-$N$2)/(2*($C18+$D18*0.5)*SQRT($Q$2)))-ATAN(ABS($P$2)/$O$2))","v":892.904083931329},{"$f":"'Calcul CB'!$D$17+($C18+$D18*0.5)*SIN(ACOS((($C18+$D18*0.5)*($C18+$D18*0.5)+$Q$2-$N$2)/(2*($C18+$D18*0.5)*SQRT($Q$2)))-ATAN(ABS($P$2)/$O$2))","v":626.745558058558},{"$f":"'Calcul CB'!$C$17+($C18+$D18)*COS(ACOS((($C18+$D18)*($C18+$D18)+$Q$2-$N$2)/(2*($C18+$D18)*SQRT($Q$2)))-ATAN(ABS($P$2)/$O$2))","v":1002.60147520196},{"$f":"'Calcul CB'!$D$17+($C18+$D18)*SIN(ACOS((($C18+$D18)*($C18+$D18)+$Q$2-$N$2)/(2*($C18+$D18)*SQRT($Q$2)))-ATAN(ABS($P$2)/$O$2))","v":603.971606331018},{"$f":"(H18+J18+L18)/3","v":116.022291560749},{"$f":"'Calcul CB'!$C$17+$C18*COS(ACOS(($C18*$C18+$X$2-$U$2)/(2*$C18*SQRT($X$2)))-ATAN(ABS($W$2)/$V$2))","v":802.434079096314},{"$f":"'Calcul CB'!$D$17+$C18*SIN(ACOS(($C18*$C18+$X$2-$U$2)/(2*$C18*SQRT($X$2)))-ATAN(ABS($W$2)/$V$2))","v":319.976767812755},{"$f":"'Calcul CB'!$C$17+($C18+$D18*0.5)*COS(ACOS((($C18+$D18*0.5)*($C18+$D18*0.5)+$X$2-$U$2)/(2*($C18+$D18*0.5)*SQRT($X$2)))-ATAN(ABS($W$2)/$V$2))","v":902.23590489211},{"$f":"'Calcul CB'!$D$17+($C18+$D18*0.5)*SIN(ACOS((($C18+$D18*0.5)*($C18+$D18*0.5)+$X$2-$U$2)/(2*($C18+$D18*0.5)*SQRT($X$2)))-ATAN(ABS($W$2)/$V$2))","v":306.312599187306},{"$f":"'Calcul CB'!$C$17+($C18+$D18)*COS(ACOS((($C18+$D18)*($C18+$D18)+$X$2-$U$2)/(2*($C18+$D18)*SQRT($X$2)))-ATAN(ABS($W$2)/$V$2))","v":998.004710186119},{"$f":"'Calcul CB'!$D$17+($C18+$D18)*SIN(ACOS((($C18+$D18)*($C18+$D18)+$X$2-$U$2)/(2*($C18+$D18)*SQRT($X$2)))-ATAN(ABS($W$2)/$V$2))","v":277.171451521575},null,{"$f":"'Calcul CB'!$C$17+$C18*COS(ACOS(($C18*$C18+$AE$2-$AB$2)/(2*$C18*SQRT($AE$2)))-ATAN(ABS($AD$2)/$AC$2))","v":448.233877515448},{"$f":"'Calcul CB'!$D$17+$C18*SIN(ACOS(($C18*$C18+$AE$2-$AB$2)/(2*$C18*SQRT($AE$2)))-ATAN(ABS($AD$2)/$AC$2))","v":925.521555986332},{"$f":"'Calcul CB'!$C$17+($C18+$D18*0.5)*COS(ACOS((($C18+$D18*0.5)*($C18+$D18*0.5)+$AE$2-$AB$2)/(2*($C18+$D18*0.5)*SQRT($AE$2)))-ATAN(ABS($AD$2)/$AC$2))","v":588.138264177686},{"$f":"'Calcul CB'!$D$17+($C18+$D18*0.5)*SIN(ACOS((($C18+$D18*0.5)*($C18+$D18*0.5)+$AE$2-$AB$2)/(2*($C18+$D18*0.5)*SQRT($AE$2)))-ATAN(ABS($AD$2)/$AC$2))","v":980.53240859285},{"$f":"'Calcul CB'!$C$17+($C18+$D18)*COS(ACOS((($C18+$D18)*($C18+$D18)+$AE$2-$AB$2)/(2*($C18+$D18)*SQRT($AE$2)))-ATAN(ABS($AD$2)/$AC$2))","v":745.372300370753},{"$f":"'Calcul CB'!$D$17+($C18+$D18)*SIN(ACOS((($C18+$D18)*($C18+$D18)+$AE$2-$AB$2)/(2*($C18+$D18)*SQRT($AE$2)))-ATAN(ABS($AD$2)/$AC$2))","v":1000.96810441686}]
["Vérin nu, R/R, cat2, l0 = 480mm, c=160mm ",2,480,160,"TEVNN305016022  ",null,{"$f":"'Calcul CB'!$E$23-('Choix vérin lumi'!$C19+0.5*'Choix vérin lumi'!$D19)","v":-70.6892602854501},{"$f":"ABS(G19)","v":70.6892602854501},{"$f":"'Calcul CB'!$E$24-('Choix vérin lumi'!$C19+0.5*'Choix vérin lumi'!$D19)","v":-137.485178069699},{"$f":"ABS(I19)","v":137.485178069699},{"$f":"'Calcul CB'!$E$25-('Choix vérin lumi'!$C19+0.5*'Choix vérin lumi'!$D19)","v":109.892436327098},{"$f":"ABS(K19)","v":109.892436327098},null,{"$f":"'Calcul CB'!$C$17+$C19*COS(ACOS(($C19*$C19+$Q$2-$N$2)/(2*$C19*SQRT($Q$2)))-ATAN(ABS($P$2)/$O$2))","v":775.221971186501},{"$f":"'Calcul CB'!$D$17+$C19*SIN(ACOS(($C19*$C19+$Q$2-$N$2)/(2*$C19*SQRT($Q$2)))-ATAN(ABS($P$2)/$O$2))","v":629.380590847523},{"$f":"'Calcul CB'!$C$17+($C19+$D19*0.5)*COS(ACOS((($C19+$D19*0.5)*($C19+$D19*0.5)+$Q$2-$N$2)/(2*($C19+$D19*0.5)*SQRT($Q$2)))-ATAN(ABS($P$2)/$O$2))","v":860.392384211664},{"$f":"'Calcul CB'!$D$17+($C19+$D19*0.5)*SIN(ACOS((($C19+$D19*0.5)*($C19+$D19*0.5)+$Q$2-$N$2)/(2*($C19+$D19*0.5)*SQRT($Q$2)))-ATAN(ABS($P$2)/$O$2))","v":629.677262808256},{"$f":"'Calcul CB'!$C$17+($C19+$D19)*COS(ACOS((($C19+$D19)*($C19+$D19)+$Q$2-$N$2)/(2*($C19+$D19)*SQRT($Q$2)))-ATAN(ABS($P$2)/$O$2))","v":947.572715496104},{"$f":"'Calcul CB'!$D$17+($C19+$D19)*SIN(ACOS((($C19+$D19)*($C19+$D19)+$Q$2-$N$2)/(2*($C19+$D19)*SQRT($Q$2)))-ATAN(ABS($P$2)/$O$2))","v":617.940290206869},{"$f":"(H19+J19+L19)/3","v":106.022291560749},{"$f":"'Calcul CB'!$C$17+$C19*COS(ACOS(($C19*$C19+$X$2-$U$2)/(2*$C19*SQRT($X$2)))-ATAN(ABS($W$2)/$V$2))","v":792.192322678518},{"$f":"'Calcul CB'!$D$17+$C19*SIN(ACOS(($C19*$C19+$X$2-$U$2)/(2*$C19*SQRT($X$2)))-ATAN(ABS($W$2)/$V$2))","v":320.469089183173},{"$f":"'Calcul CB'!$C$17+($C19+$D19*0.5)*COS(ACOS((($C19+$D19*0.5)*($C19+$D19*0.5)+$X$2-$U$2)/(2*($C19+$D19*0.5)*SQRT($X$2)))-ATAN(ABS($W$2)/$V$2))","v":872.743068621839},{"$f":"'Calcul CB'!$D$17+($C19+$D19*0.5)*SIN(ACOS((($C19+$D19*0.5)*($C19+$D19*0.5)+$X$2-$U$2)/(2*($C19+$D19*0.5)*SQRT($X$2)))-ATAN(ABS($W$2)/$V$2))","v":312.05087364195},{"$f":"'Calcul CB'!$C$17+($C19+$D19)*COS(ACOS((($C19+$D19)*($C19+$D19)+$X$2-$U$2)/(2*($C19+$D19)*SQRT($X$2)))-ATAN(ABS($W$2)/$V$2))","v":950.613431421928},{"$f":"'Calcul CB'!$D$17+($C19+$D19)*SIN(ACOS((($C19+$D19)*($C19+$D19)+$X$2-$U$2)/(2*($C19+$D19)*SQRT($X$2)))-ATAN(ABS($W$2)/$V$2))","v":293.670320352468},null,{"$f":"'Calcul CB'!$C$17+$C19*COS(ACOS(($C19*$C19+$AE$2-$AB$2)/(2*$C19*SQRT($AE$2)))-ATAN(ABS($AD$2)/$AC$2))","v":435.235503715149},{"$f":"'Calcul CB'!$D$17+$C19*SIN(ACOS(($C19*$C19+$AE$2-$AB$2)/(2*$C19*SQRT($AE$2)))-ATAN(ABS($AD$2)/$AC$2))","v":918.321992605321},{"$f":"'Calcul CB'!$C$17+($C19+$D19*0.5)*COS(ACOS((($C19+$D19*0.5)*($C19+$D19*0.5)+$AE$2-$AB$2)/(2*($C19+$D19*0.5)*SQRT($AE$2)))-ATAN(ABS($AD$2)/$AC$2))","v":544.293095311016},{"$f":"'Calcul CB'!$D$17+($C19+$D19*0.5)*SIN(ACOS((($C19+$D19*0.5)*($C19+$D19*0.5)+$AE$2-$AB$2)/(2*($C19+$D19*0.5)*SQRT($AE$2)))-ATAN(ABS($AD$2)/$AC$2))","v":967.376525658078},{"$f":"'Calcul CB'!$C$17+($C19+$D19)*COS(ACOS((($C19+$D19)*($C19+$D19)+$AE$2-$AB$2)/(2*($C19+$D19)*SQRT($AE$2)))-ATAN(ABS($AD$2)/$AC$2))","v":664.67500519003},{"$f":"'Calcul CB'!$D$17+($C19+$D19)*SIN(ACOS((($C19+$D19)*($C19+$D19)+$AE$2-$AB$2)/(2*($C19+$D19)*SQRT($AE$2)))-ATAN(ABS($AD$2)/$AC$2))","v":995.520522896301}]
["Vérin équipé, R/C, cat2, l0=620mm, c=300mm",2,620,300,"TCVHN356330022",null,{"$f":"'Calcul CB'!$E$23-('Choix vérin lumi'!$C20+0.5*'Choix vérin lumi'!$D20)","v":-280.68926028545},{"$f":"ABS(G20)","v":280.68926028545},{"$f":"'Calcul CB'!$E$24-('Choix vérin lumi'!$C20+0.5*'Choix vérin lumi'!$D20)","v":-347.485178069699},{"$f":"ABS(I20)","v":347.485178069699},{"$f":"'Calcul CB'!$E$25-('Choix vérin lumi'!$C20+0.5*'Choix vérin lumi'!$D20)","v":-100.107563672902},{"$f":"ABS(K20)","v":100.107563672902},null,{"$f":"'Calcul CB'!$C$17+$C20*COS(ACOS(($C20*$C20+$Q$2-$N$2)/(2*$C20*SQRT($Q$2)))-ATAN(ABS($P$2)/$O$2))","v":925.645769511522},{"$f":"'Calcul CB'!$D$17+$C20*SIN(ACOS(($C20*$C20+$Q$2-$N$2)/(2*$C20*SQRT($Q$2)))-ATAN(ABS($P$2)/$O$2))","v":622.064282356991},{"$f":"'Calcul CB'!$C$17+($C20+$D20*0.5)*COS(ACOS((($C20+$D20*0.5)*($C20+$D20*0.5)+$Q$2-$N$2)/(2*($C20+$D20*0.5)*SQRT($Q$2)))-ATAN(ABS($P$2)/$O$2))","v":1090.59112119363},{"$f":"'Calcul CB'!$D$17+($C20+$D20*0.5)*SIN(ACOS((($C20+$D20*0.5)*($C20+$D20*0.5)+$Q$2-$N$2)/(2*($C20+$D20*0.5)*SQRT($Q$2)))-ATAN(ABS($P$2)/$O$2))","v":570.004776410842},{"$f":"'Calcul CB'!$C$17+($C20+$D20)*COS(ACOS((($C20+$D20)*($C20+$D20)+$Q$2-$N$2)/(2*($C20+$D20)*SQRT($Q$2)))-ATAN(ABS($P$2)/$O$2))","v":1249.92388892258},{"$f":"'Calcul CB'!$D$17+($C20+$D20)*SIN(ACOS((($C20+$D20)*($C20+$D20)+$Q$2-$N$2)/(2*($C20+$D20)*SQRT($Q$2)))-ATAN(ABS($P$2)/$O$2))","v":461.833790160144},{"$f":"(H20+J20+L20)/3","v":242.760667342684},{"$f":"'Calcul CB'!$C$17+$C20*COS(ACOS(($C20*$C20+$X$2-$U$2)/(2*$C20*SQRT($X$2)))-ATAN(ABS($W$2)/$V$2))","v":931.37836076061},{"$f":"'Calcul CB'!$D$17+$C20*SIN(ACOS(($C20*$C20+$X$2-$U$2)/(2*$C20*SQRT($X$2)))-ATAN(ABS($W$2)/$V$2))","v":299.188637003435},{"$f":"'Calcul CB'!$C$17+($C20+$D20*0.5)*COS(ACOS((($C20+$D20*0.5)*($C20+$D20*0.5)+$X$2-$U$2)/(2*($C20+$D20*0.5)*SQRT($X$2)))-ATAN(ABS($W$2)/$V$2))","v":1071.54758527705},{"$f":"'Calcul CB'!$D$17+($C20+$D20*0.5)*SIN(ACOS((($C20+$D20*0.5)*($C20+$D20*0.5)+$X$2-$U$2)/(2*($C20+$D20*0.5)*SQRT($X$2)))-ATAN(ABS($W$2)/$V$2))","v":242.618277638143},{"$f":"'Calcul CB'!$C$17+($C20+$D20)*COS(ACOS((($C20+$D20)*($C20+$D20)+$X$2-$U$2)/(2*($C20+$D20)*SQRT($X$2)))-ATAN(ABS($W$2)/$V$2))","v":1199.51437369753},{"$f":"'Calcul CB'!$D$17+($C20+$D20)*SIN(ACOS((($C20+$D20)*($C20+$D20)+$X$2-$U$2)/(2*($C20+$D20)*SQRT($X$2)))-ATAN(ABS($W$2)/$V$2))","v":149.425959315539},null,{"$f":"'Calcul CB'!$C$17+$C20*COS(ACOS(($C20*$C20+$AE$2-$AB$2)/(2*$C20*SQRT($AE$2)))-ATAN(ABS($AD$2)/$AC$2))","v":633.549279414072},{"$f":"'Calcul CB'!$D$17+$C20*SIN(ACOS(($C20*$C20+$AE$2-$AB$2)/(2*$C20*SQRT($AE$2)))-ATAN(ABS($AD$2)/$AC$2))","v":990.608763309658},{"$f":"'Calcul CB'!$C$17+($C20+$D20*0.5)*COS(ACOS((($C20+$D20*0.5)*($C20+$D20*0.5)+$AE$2-$AB$2)/(2*($C20+$D20*0.5)*SQRT($AE$2)))-ATAN(ABS($AD$2)/$AC$2))","v":882.473413772683},{"$f":"'Calcul CB'!$D$17+($C20+$D20*0.5)*SIN(ACOS((($C20+$D20*0.5)*($C20+$D20*0.5)+$AE$2-$AB$2)/(2*($C20+$D20*0.5)*SQRT($AE$2)))-ATAN(ABS($AD$2)/$AC$2))","v":986.351682270465},{"$f":"'Calcul CB'!$C$17+($C20+$D20)*COS(ACOS((($C20+$D20)*($C20+$D20)+$AE$2-$AB$2)/(2*($C20+$D20)*SQRT($AE$2)))-ATAN(ABS($AD$2)/$AC$2))","v":1159.55827367845},{"$f":"'Calcul CB'!$D$17+($C20+$D20)*SIN(ACOS((($C20+$D20)*($C20+$D20)+$AE$2-$AB$2)/(2*($C20+$D20)*SQRT($AE$2)))-ATAN(ABS($AD$2)/$AC$2))","v":847.785206577163}]
[]
[null,"Bras de relevage horizontaux",null,null,null,null,null,null,null,null,null,null,null,null,null,"Bras de relevage bas",null,null,null,null,null,null,null,null,null,"Bras de relevage haut"]
[]
["Vérin rentré"]
[]
[]
[]
[]
[]
[]
[]
[]
[]
[]
[]
[]
[]
[]
[]
[]
[]
[]
[]
[]
[]
[]
[]
[]
["Vérin mi-course"]
[]
[]
[]
[]
[]
[]
[]
[]
[]
[]
[]
[]
[]
[]
[]
[]
[]
[]
[]
[]
[]
[]
[]
[]
["Vérin sorti"]

{"sheet":"Choix vérin basc","index":2,"n_rows":73,"n_cols":33,"rows_kept":73,"cut":false,"hidden":false,"merged":[[0,1,1,12],[3,13,3,18],[3,20,3,25],[3,27,3,32],[4,6,4,11],[4,13,4,14],[4,15,4,16],[4,17,4,18],[4,20,4,21],[4,22,4,23],[4,24,4,25],[4,27,4,28],[4,29,4,30],[4,31,4,32],[5,6,5,7],[5,8,5,9],[5,10,5,11],[20,1,20,13],[20,15,20,23],[20,25,20,33],[22,0,44,0],[47,0,69,0],[72,0,94,0]]}
["Les vérins sont soit :","!!!! NE SURTOUT PAS AJOUTER DE LIGNES EN AMONT DES BOUTONS !!!",null,null,null,null,null,null,null,null,null,null,null,"||AB||²","Xca","Yca","||CA||²",null,null,null,"||A'B||²","Xca'","Yca'","||CA'||²",null,null,null,"||A''B||²","Xca''","Yca''","||CA''||²"]
[" - équipés : flexibles et clapet anti-retour inclus",null,null,null,null,null,null,null,null,null,null,null,null,{"$f":"('Calcul CB'!$H$15*'Calcul CB'!$H$15+'Calcul CB'!$I$15*'Calcul CB'!$I$15)","v":600625.4225},{"$f":"'Calcul CB'!H18-'Calcul CB'!$H$17","v":490},{"$f":"'Calcul CB'!I18-'Calcul CB'!$I$17","v":-450},{"$f":"(O2*O2+P2*P2)","v":442600},null,null,null,{"$f":"('Calcul CB'!$H$15*'Calcul CB'!$H$15+'Calcul CB'!$I$15*'Calcul CB'!$I$15)","v":600625.4225},{"$f":"'Calcul CB'!H19-'Calcul CB'!$H$17","v":437.018376135711},{"$f":"'Calcul CB'!I19-'Calcul CB'!$I$17","v":-760},{"$f":"(V2*V2+W2*W2)","v":768585.061080294},null,null,null,{"$f":"('Calcul CB'!$H$15*'Calcul CB'!$H$15+'Calcul CB'!$I$15*'Calcul CB'!$I$15)","v":600625.4225},{"$f":"'Calcul CB'!H20-'Calcul CB'!$H$17","v":417.4341462896},{"$f":"'Calcul CB'!I20-'Calcul CB'!$I$17","v":-80},{"$f":"(AC2*AC2+AD2*AD2)","v":180651.266488528}]
[" - sans flexibles : clapet anti-retour inclus, flexibles (ref: TOP9H0900) à commander en plus"]
[" - nu : flexibles (ref: TOP9H0900) ET clapet (ref: TOP912063A) à commander en plus",null,null,null,null,null,null,null,null,null,null,null,null,"Horizontale  (coordonnées point B)",null,null,null,null,null,null,"bas",null,null,null,null,null,null,"haut"]
[null,null,null,null,null,null,"Lumière (CB - ( lo +0,5c) )",null,null,null,null,null,"Générer dessins :","rentré",null,"mi-course",null,"sorti",null,null,"rentré",null,"mi-course",null,"sorti",null,null,"rentré",null,"mi-course",null,"sorti"]
["Désignation AP","catégorie","lo","c","ref",null,"horizontale",null,"bas",null,"haut",null,null,"X","Y","X","Y","X","Y","Moyenne","X","Y","X","Y","X","Y",null,"X","Y","X","Y","X","Y"]
["Vérin équipé, R/C, cat2, l0=620mm, c=300mm",2,620,300,"TCVHN356330022",null,{"$f":"'Calcul CB'!$J$23-('Choix vérin basc'!$C7+0.5*'Choix vérin basc'!$D7)","v":-182.55772836814},{"$f":"ABS(G7)","v":182.55772836814},{"$f":"'Calcul CB'!$J$24-('Choix vérin basc'!$C7+0.5*'Choix vérin basc'!$D7)","v":-333.3738902776},{"$f":"ABS(I7)","v":333.3738902776},{"$f":"'Calcul CB'!$J$25-('Choix vérin basc'!$C7+0.5*'Choix vérin basc'!$D7)","v":40.3912787032886},{"$f":"ABS(K7)","v":40.3912787032886},null,{"$f":"'Calcul CB'!$C$17+$C7*COS(ACOS(($C7*$C7+$Q$2-$N$2)/(2*$C7*SQRT($Q$2)))-ATAN(ABS($P$2)/$O$2))","v":858.581605352222},{"$f":"'Calcul CB'!$D$17+$C7*SIN(ACOS(($C7*$C7+$Q$2-$N$2)/(2*$C7*SQRT($Q$2)))-ATAN(ABS($P$2)/$O$2))","v":774.039328605753},{"$f":"'Calcul CB'!$C$17+($C7+$D7*0.5)*COS(ACOS((($C7+$D7*0.5)*($C7+$D7*0.5)+$Q$2-$N$2)/(2*($C7+$D7*0.5)*SQRT($Q$2)))-ATAN(ABS($P$2)/$O$2))","v":1042.30889142951},{"$f":"'Calcul CB'!$D$17+($C7+$D7*0.5)*SIN(ACOS((($C7+$D7*0.5)*($C7+$D7*0.5)+$Q$2-$N$2)/(2*($C7+$D7*0.5)*SQRT($Q$2)))-ATAN(ABS($P$2)/$O$2))","v":742.431262334354},{"$f":"'Calcul CB'!$C$17+($C7+$D7)*COS(ACOS((($C7+$D7)*($C7+$D7)+$Q$2-$N$2)/(2*($C7+$D7)*SQRT($Q$2)))-ATAN(ABS($P$2)/$O$2))","v":1225.62412031219},{"$f":"'Calcul CB'!$D$17+($C7+$D7)*SIN(ACOS((($C7+$D7)*($C7+$D7)+$Q$2-$N$2)/(2*($C7+$D7)*SQRT($Q$2)))-ATAN(ABS($P$2)/$O$2))","v":660.374511562161},{"$f":"(H7+J7+L7)/3","v":185.440965783009},{"$f":"'Calcul CB'!$C$17+$C7*COS(ACOS(($C7*$C7+$X$2-$U$2)/(2*$C7*SQRT($X$2)))-ATAN(ABS($W$2)/$V$2))","v":949.961585872886},{"$f":"'Calcul CB'!$D$17+$C7*SIN(ACOS(($C7*$C7+$X$2-$U$2)/(2*$C7*SQRT($X$2)))-ATAN(ABS($W$2)/$V$2))","v":443.098402940187},{"$f":"'Calcul CB'!$C$17+($C7+$D7*0.5)*COS(ACOS((($C7+$D7*0.5)*($C7+$D7*0.5)+$X$2-$U$2)/(2*($C7+$D7*0.5)*SQRT($X$2)))-ATAN(ABS($W$2)/$V$2))","v":1097.72834580225},{"$f":"'Calcul CB'!$D$17+($C7+$D7*0.5)*SIN(ACOS((($C7+$D7*0.5)*($C7+$D7*0.5)+$X$2-$U$2)/(2*($C7+$D7*0.5)*SQRT($X$2)))-ATAN(ABS($W$2)/$V$2))","v":390.896810139092},{"$f":"'Calcul CB'!$C$17+($C7+$D7)*COS(ACOS((($C7+$D7)*($C7+$D7)+$X$2-$U$2)/(2*($C7+$D7)*SQRT($X$2)))-ATAN(ABS($W$2)/$V$2))","v":1238.51354219702},{"$f":"'Calcul CB'!$D$17+($C7+$D7)*SIN(ACOS((($C7+$D7)*($C7+$D7)+$X$2-$U$2)/(2*($C7+$D7)*SQRT($X$2)))-ATAN(ABS($W$2)/$V$2))","v":305.075386339605},null,{"$f":"'Calcul CB'!$C$17+$C7*COS(ACOS(($C7*$C7+$AE$2-$AB$2)/(2*$C7*SQRT($AE$2)))-ATAN(ABS($AD$2)/$AC$2))","v":405.330334153929},{"$f":"'Calcul CB'!$D$17+$C7*SIN(ACOS(($C7*$C7+$AE$2-$AB$2)/(2*$C7*SQRT($AE$2)))-ATAN(ABS($AD$2)/$AC$2))","v":1065.4066466624},{"$f":"'Calcul CB'!$C$17+($C7+$D7*0.5)*COS(ACOS((($C7+$D7*0.5)*($C7+$D7*0.5)+$AE$2-$AB$2)/(2*($C7+$D7*0.5)*SQRT($AE$2)))-ATAN(ABS($AD$2)/$AC$2))","v":669.572729073263},{"$f":"'Calcul CB'!$D$17+($C7+$D7*0.5)*SIN(ACOS((($C7+$D7*0.5)*($C7+$D7*0.5)+$AE$2-$AB$2)/(2*($C7+$D7*0.5)*SQRT($AE$2)))-ATAN(ABS($AD$2)/$AC$2))","v":1141.07912837079},{"$f":"'Calcul CB'!$C$17+($C7+$D7)*COS(ACOS((($C7+$D7)*($C7+$D7)+$AE$2-$AB$2)/(2*($C7+$D7)*SQRT($AE$2)))-ATAN(ABS($AD$2)/$AC$2))","v":967.832296177132},{"$f":"'Calcul CB'!$D$17+($C7+$D7)*SIN(ACOS((($C7+$D7)*($C7+$D7)+$AE$2-$AB$2)/(2*($C7+$D7)*SQRT($AE$2)))-ATAN(ABS($AD$2)/$AC$2))","v":1113.00072545466}]
["Vérin sans flexible, R/R, cat2, l0=550mm, c=285mm",2,550,285,"TEVNN305028522",null,{"$f":"'Calcul CB'!$J$23-('Choix vérin basc'!$C8+0.5*'Choix vérin basc'!$D8)","v":-105.05772836814},{"$f":"ABS(G8)","v":105.05772836814},{"$f":"'Calcul CB'!$J$24-('Choix vérin basc'!$C8+0.5*'Choix vérin basc'!$D8)","v":-255.8738902776},{"$f":"ABS(I8)","v":255.8738902776},{"$f":"'Calcul CB'!$J$25-('Choix vérin basc'!$C8+0.5*'Choix vérin basc'!$D8)","v":117.891278703289},{"$f":"ABS(K8)","v":117.891278703289},null,{"$f":"'Calcul CB'!$C$17+$C8*COS(ACOS(($C8*$C8+$Q$2-$N$2)/(2*$C8*SQRT($Q$2)))-ATAN(ABS($P$2)/$O$2))","v":774.674406696749},{"$f":"'Calcul CB'!$D$17+$C8*SIN(ACOS(($C8*$C8+$Q$2-$N$2)/(2*$C8*SQRT($Q$2)))-ATAN(ABS($P$2)/$O$2))","v":773.673712292015},{"$f":"'Calcul CB'!$C$17+($C8+$D8*0.5)*COS(ACOS((($C8+$D8*0.5)*($C8+$D8*0.5)+$Q$2-$N$2)/(2*($C8+$D8*0.5)*SQRT($Q$2)))-ATAN(ABS($P$2)/$O$2))","v":946.948754040282},{"$f":"'Calcul CB'!$D$17+($C8+$D8*0.5)*SIN(ACOS((($C8+$D8*0.5)*($C8+$D8*0.5)+$Q$2-$N$2)/(2*($C8+$D8*0.5)*SQRT($Q$2)))-ATAN(ABS($P$2)/$O$2))","v":764.532168288307},{"$f":"'Calcul CB'!$C$17+($C8+$D8)*COS(ACOS((($C8+$D8)*($C8+$D8)+$Q$2-$N$2)/(2*($C8+$D8)*SQRT($Q$2)))-ATAN(ABS($P$2)/$O$2))","v":1122.29643365226},{"$f":"'Calcul CB'!$D$17+($C8+$D8)*SIN(ACOS((($C8+$D8)*($C8+$D8)+$Q$2-$N$2)/(2*($C8+$D8)*SQRT($Q$2)))-ATAN(ABS($P$2)/$O$2))","v":713.612141643572},{"$f":"(H8+J8+L8)/3","v":159.607632449676},{"$f":"'Calcul CB'!$C$17+$C8*COS(ACOS(($C8*$C8+$X$2-$U$2)/(2*$C8*SQRT($X$2)))-ATAN(ABS($W$2)/$V$2))","v":879.958863177799},{"$f":"'Calcul CB'!$D$17+$C8*SIN(ACOS(($C8*$C8+$X$2-$U$2)/(2*$C8*SQRT($X$2)))-ATAN(ABS($W$2)/$V$2))","v":456.726723733232},{"$f":"'Calcul CB'!$C$17+($C8+$D8*0.5)*COS(ACOS((($C8+$D8*0.5)*($C8+$D8*0.5)+$X$2-$U$2)/(2*($C8+$D8*0.5)*SQRT($X$2)))-ATAN(ABS($W$2)/$V$2))","v":1021.92877535625},{"$f":"'Calcul CB'!$D$17+($C8+$D8*0.5)*SIN(ACOS((($C8+$D8*0.5)*($C8+$D8*0.5)+$X$2-$U$2)/(2*($C8+$D8*0.5)*SQRT($X$2)))-ATAN(ABS($W$2)/$V$2))","v":421.878480944226},{"$f":"'Calcul CB'!$C$17+($C8+$D8)*COS(ACOS((($C8+$D8)*($C8+$D8)+$X$2-$U$2)/(2*($C8+$D8)*SQRT($X$2)))-ATAN(ABS($W$2)/$V$2))","v":1159.91880572217},{"$f":"'Calcul CB'!$D$17+($C8+$D8)*SIN(ACOS((($C8+$D8)*($C8+$D8)+$X$2-$U$2)/(2*($C8+$D8)*SQRT($X$2)))-ATAN(ABS($W$2)/$V$2))","v":358.022959882951},null,{"$f":"'Calcul CB'!$C$17+$C8*COS(ACOS(($C8*$C8+$AE$2-$AB$2)/(2*$C8*SQRT($AE$2)))-ATAN(ABS($AD$2)/$AC$2))","v":294.475947054737},{"$f":"'Calcul CB'!$D$17+$C8*SIN(ACOS(($C8*$C8+$AE$2-$AB$2)/(2*$C8*SQRT($AE$2)))-ATAN(ABS($AD$2)/$AC$2))","v":998.851566147298},{"$f":"'Calcul CB'!$C$17+($C8+$D8*0.5)*COS(ACOS((($C8+$D8*0.5)*($C8+$D8*0.5)+$AE$2-$AB$2)/(2*($C8+$D8*0.5)*SQRT($AE$2)))-ATAN(ABS($AD$2)/$AC$2))","v":528.512804060554},{"$f":"'Calcul CB'!$D$17+($C8+$D8*0.5)*SIN(ACOS((($C8+$D8*0.5)*($C8+$D8*0.5)+$AE$2-$AB$2)/(2*($C8+$D8*0.5)*SQRT($AE$2)))-ATAN(ABS($AD$2)/$AC$2))","v":1113.43719870385},{"$f":"'Calcul CB'!$C$17+($C8+$D8)*COS(ACOS((($C8+$D8)*($C8+$D8)+$AE$2-$AB$2)/(2*($C8+$D8)*SQRT($AE$2)))-ATAN(ABS($AD$2)/$AC$2))","v":795.003979856245},{"$f":"'Calcul CB'!$D$17+($C8+$D8)*SIN(ACOS((($C8+$D8)*($C8+$D8)+$AE$2-$AB$2)/(2*($C8+$D8)*SQRT($AE$2)))-ATAN(ABS($AD$2)/$AC$2))","v":1143.53896697868}]
["Vérin nu, R/R, cat2, l0=610mm, c=350mm",2,610,350,"TENNN305035022",null,{"$f":"'Calcul CB'!$J$23-('Choix vérin basc'!$C9+0.5*'Choix vérin basc'!$D9)","v":-197.55772836814},{"$f":"ABS(G9)","v":197.55772836814},{"$f":"'Calcul CB'!$J$24-('Choix vérin basc'!$C9+0.5*'Choix vérin basc'!$D9)","v":-348.3738902776},{"$f":"ABS(I9)","v":348.3738902776},{"$f":"'Calcul CB'!$J$25-('Choix vérin basc'!$C9+0.5*'Choix vérin basc'!$D9)","v":25.3912787032885},{"$f":"ABS(K9)","v":25.3912787032885},null,{"$f":"'Calcul CB'!$C$17+$C9*COS(ACOS(($C9*$C9+$Q$2-$N$2)/(2*$C9*SQRT($Q$2)))-ATAN(ABS($P$2)/$O$2))","v":846.496978250263},{"$f":"'Calcul CB'!$D$17+$C9*SIN(ACOS(($C9*$C9+$Q$2-$N$2)/(2*$C9*SQRT($Q$2)))-ATAN(ABS($P$2)/$O$2))","v":774.547179094731},{"$f":"'Calcul CB'!$C$17+($C9+$D9*0.5)*COS(ACOS((($C9+$D9*0.5)*($C9+$D9*0.5)+$Q$2-$N$2)/(2*($C9+$D9*0.5)*SQRT($Q$2)))-ATAN(ABS($P$2)/$O$2))","v":1060.79448922411},{"$f":"'Calcul CB'!$D$17+($C9+$D9*0.5)*SIN(ACOS((($C9+$D9*0.5)*($C9+$D9*0.5)+$Q$2-$N$2)/(2*($C9+$D9*0.5)*SQRT($Q$2)))-ATAN(ABS($P$2)/$O$2))","v":736.643357710702},{"$f":"'Calcul CB'!$C$17+($C9+$D9)*COS(ACOS((($C9+$D9)*($C9+$D9)+$Q$2-$N$2)/(2*($C9+$D9)*SQRT($Q$2)))-ATAN(ABS($P$2)/$O$2))","v":1273.22957505592},{"$f":"'Calcul CB'!$D$17+($C9+$D9)*SIN(ACOS((($C9+$D9)*($C9+$D9)+$Q$2-$N$2)/(2*($C9+$D9)*SQRT($Q$2)))-ATAN(ABS($P$2)/$O$2))","v":628.656006727553},{"$f":"(H9+J9+L9)/3","v":190.440965783009},{"$f":"'Calcul CB'!$C$17+$C9*COS(ACOS(($C9*$C9+$X$2-$U$2)/(2*$C9*SQRT($X$2)))-ATAN(ABS($W$2)/$V$2))","v":939.983049955554},{"$f":"'Calcul CB'!$D$17+$C9*SIN(ACOS(($C9*$C9+$X$2-$U$2)/(2*$C9*SQRT($X$2)))-ATAN(ABS($W$2)/$V$2))","v":445.452608778602},{"$f":"'Calcul CB'!$C$17+($C9+$D9*0.5)*COS(ACOS((($C9+$D9*0.5)*($C9+$D9*0.5)+$X$2-$U$2)/(2*($C9+$D9*0.5)*SQRT($X$2)))-ATAN(ABS($W$2)/$V$2))","v":1112.2103304251},{"$f":"'Calcul CB'!$D$17+($C9+$D9*0.5)*SIN(ACOS((($C9+$D9*0.5)*($C9+$D9*0.5)+$X$2-$U$2)/(2*($C9+$D9*0.5)*SQRT($X$2)))-ATAN(ABS($W$2)/$V$2))","v":383.878906722113},{"$f":"'Calcul CB'!$C$17+($C9+$D9)*COS(ACOS((($C9+$D9)*($C9+$D9)+$X$2-$U$2)/(2*($C9+$D9)*SQRT($X$2)))-ATAN(ABS($W$2)/$V$2))","v":1274.1128705153},{"$f":"'Calcul CB'!$D$17+($C9+$D9)*SIN(ACOS((($C9+$D9)*($C9+$D9)+$X$2-$U$2)/(2*($C9+$D9)*SQRT($X$2)))-ATAN(ABS($W$2)/$V$2))","v":276.072176672729},null,{"$f":"'Calcul CB'!$C$17+$C9*COS(ACOS(($C9*$C9+$AE$2-$AB$2)/(2*$C9*SQRT($AE$2)))-ATAN(ABS($AD$2)/$AC$2))","v":389.012955288073},{"$f":"'Calcul CB'!$D$17+$C9*SIN(ACOS(($C9*$C9+$AE$2-$AB$2)/(2*$C9*SQRT($AE$2)))-ATAN(ABS($AD$2)/$AC$2))","v":1057.13875770549},{"$f":"'Calcul CB'!$C$17+($C9+$D9*0.5)*COS(ACOS((($C9+$D9*0.5)*($C9+$D9*0.5)+$AE$2-$AB$2)/(2*($C9+$D9*0.5)*SQRT($AE$2)))-ATAN(ABS($AD$2)/$AC$2))","v":697.959791321463},{"$f":"'Calcul CB'!$D$17+($C9+$D9*0.5)*SIN(ACOS((($C9+$D9*0.5)*($C9+$D9*0.5)+$AE$2-$AB$2)/(2*($C9+$D9*0.5)*SQRT($AE$2)))-ATAN(ABS($AD$2)/$AC$2))","v":1143.41949206138},{"$f":"'Calcul CB'!$C$17+($C9+$D9)*COS(ACOS((($C9+$D9)*($C9+$D9)+$AE$2-$AB$2)/(2*($C9+$D9)*SQRT($AE$2)))-ATAN(ABS($AD$2)/$AC$2))","v":1052.0823463069},{"$f":"'Calcul CB'!$D$17+($C9+$D9)*SIN(ACOS((($C9+$D9)*($C9+$D9)+$AE$2-$AB$2)/(2*($C9+$D9)*SQRT($AE$2)))-ATAN(ABS($AD$2)/$AC$2))","v":1082.61132233934}]
["Vérin équipé, R/R, cat1, l0=440mm, c=200mm",1,440,200,"TEVHN305020011",null,{"$f":"'Calcul CB'!$J$23-('Choix vérin basc'!$C10+0.5*'Choix vérin basc'!$D10)","v":47.44227163186},{"$f":"ABS(G10)","v":47.44227163186},{"$f":"'Calcul CB'!$J$24-('Choix vérin basc'!$C10+0.5*'Choix vérin basc'!$D10)","v":-103.3738902776},{"$f":"ABS(I10)","v":103.3738902776},{"$f":"'Calcul CB'!$J$25-('Choix vérin basc'!$C10+0.5*'Choix vérin basc'!$D10)","v":270.391278703289},{"$f":"ABS(K10)","v":270.391278703289},null,{"$f":"'Calcul CB'!$C$17+$C10*COS(ACOS(($C10*$C10+$Q$2-$N$2)/(2*$C10*SQRT($Q$2)))-ATAN(ABS($P$2)/$O$2))","v":646.760445055808},{"$f":"'Calcul CB'!$D$17+$C10*SIN(ACOS(($C10*$C10+$Q$2-$N$2)/(2*$C10*SQRT($Q$2)))-ATAN(ABS($P$2)/$O$2))","v":755.389620727435},{"$f":"'Calcul CB'!$C$17+($C10+$D10*0.5)*COS(ACOS((($C10+$D10*0.5)*($C10+$D10*0.5)+$Q$2-$N$2)/(2*($C10+$D10*0.5)*SQRT($Q$2)))-ATAN(ABS($P$2)/$O$2))","v":762.831148251629},{"$f":"'Calcul CB'!$D$17+($C10+$D10*0.5)*SIN(ACOS((($C10+$D10*0.5)*($C10+$D10*0.5)+$Q$2-$N$2)/(2*($C10+$D10*0.5)*SQRT($Q$2)))-ATAN(ABS($P$2)/$O$2))","v":772.888830873996},{"$f":"'Calcul CB'!$C$17+($C10+$D10)*COS(ACOS((($C10+$D10)*($C10+$D10)+$Q$2-$N$2)/(2*($C10+$D10)*SQRT($Q$2)))-ATAN(ABS($P$2)/$O$2))","v":882.835207796012},{"$f":"'Calcul CB'!$D$17+($C10+$D10)*SIN(ACOS((($C10+$D10)*($C10+$D10)+$Q$2-$N$2)/(2*($C10+$D10)*SQRT($Q$2)))-ATAN(ABS($P$2)/$O$2))","v":772.448806822324},{"$f":"(H10+J10+L10)/3","v":140.402480204249},{"$f":"'Calcul CB'!$C$17+$C10*COS(ACOS(($C10*$C10+$X$2-$U$2)/(2*$C10*SQRT($X$2)))-ATAN(ABS($W$2)/$V$2))","v":769.744398067925},{"$f":"'Calcul CB'!$D$17+$C10*SIN(ACOS(($C10*$C10+$X$2-$U$2)/(2*$C10*SQRT($X$2)))-ATAN(ABS($W$2)/$V$2))","v":464.995478247728},{"$f":"'Calcul CB'!$C$17+($C10+$D10*0.5)*COS(ACOS((($C10+$D10*0.5)*($C10+$D10*0.5)+$X$2-$U$2)/(2*($C10+$D10*0.5)*SQRT($X$2)))-ATAN(ABS($W$2)/$V$2))","v":869.938706168018},{"$f":"'Calcul CB'!$D$17+($C10+$D10*0.5)*SIN(ACOS((($C10+$D10*0.5)*($C10+$D10*0.5)+$X$2-$U$2)/(2*($C10+$D10*0.5)*SQRT($X$2)))-ATAN(ABS($W$2)/$V$2))","v":458.135943805549},{"$f":"'Calcul CB'!$C$17+($C10+$D10)*COS(ACOS((($C10+$D10)*($C10+$D10)+$X$2-$U$2)/(2*($C10+$D10)*SQRT($X$2)))-ATAN(ABS($W$2)/$V$2))","v":969.887059967509},{"$f":"'Calcul CB'!$D$17+($C10+$D10)*SIN(ACOS((($C10+$D10)*($C10+$D10)+$X$2-$U$2)/(2*($C10+$D10)*SQRT($X$2)))-ATAN(ABS($W$2)/$V$2))","v":437.977084956721},null,{"$f":"'Calcul CB'!$C$17+$C10*COS(ACOS(($C10*$C10+$AE$2-$AB$2)/(2*$C10*SQRT($AE$2)))-ATAN(ABS($AD$2)/$AC$2))","v":134.38322231106},{"$f":"'Calcul CB'!$D$17+$C10*SIN(ACOS(($C10*$C10+$AE$2-$AB$2)/(2*$C10*SQRT($AE$2)))-ATAN(ABS($AD$2)/$AC$2))","v":844.124442640387},{"$f":"'Calcul CB'!$C$17+($C10+$D10*0.5)*COS(ACOS((($C10+$D10*0.5)*($C10+$D10*0.5)+$AE$2-$AB$2)/(2*($C10+$D10*0.5)*SQRT($AE$2)))-ATAN(ABS($AD$2)/$AC$2))","v":279.265856626747},{"$f":"'Calcul CB'!$D$17+($C10+$D10*0.5)*SIN(ACOS((($C10+$D10*0.5)*($C10+$D10*0.5)+$AE$2-$AB$2)/(2*($C10+$D10*0.5)*SQRT($AE$2)))-ATAN(ABS($AD$2)/$AC$2))","v":987.611427237352},{"$f":"'Calcul CB'!$C$17+($C10+$D10)*COS(ACOS((($C10+$D10)*($C10+$D10)+$AE$2-$AB$2)/(2*($C10+$D10)*SQRT($AE$2)))-ATAN(ABS($AD$2)/$AC$2))","v":438.454051885509},{"$f":"'Calcul CB'!$D$17+($C10+$D10)*SIN(ACOS((($C10+$D10)*($C10+$D10)+$AE$2-$AB$2)/(2*($C10+$D10)*SQRT($AE$2)))-ATAN(ABS($AD$2)/$AC$2))","v":1080.74378207765}]
["Vérin sans flexible, R/C, cat2, l0=590mm, c=285mm",2,590,285,"TCVNN305028522",null,{"$f":"'Calcul CB'!$J$23-('Choix vérin basc'!$C11+0.5*'Choix vérin basc'!$D11)","v":-145.05772836814},{"$f":"ABS(G11)","v":145.05772836814},{"$f":"'Calcul CB'!$J$24-('Choix vérin basc'!$C11+0.5*'Choix vérin basc'!$D11)","v":-295.8738902776},{"$f":"ABS(I11)","v":295.8738902776},{"$f":"'Calcul CB'!$J$25-('Choix vérin basc'!$C11+0.5*'Choix vérin basc'!$D11)","v":77.8912787032886},{"$f":"ABS(K11)","v":77.8912787032886},null,{"$f":"'Calcul CB'!$C$17+$C11*COS(ACOS(($C11*$C11+$Q$2-$N$2)/(2*$C11*SQRT($Q$2)))-ATAN(ABS($P$2)/$O$2))","v":822.419819217513},{"$f":"'Calcul CB'!$D$17+$C11*SIN(ACOS(($C11*$C11+$Q$2-$N$2)/(2*$C11*SQRT($Q$2)))-ATAN(ABS($P$2)/$O$2))","v":774.996494814625},{"$f":"'Calcul CB'!$C$17+($C11+$D11*0.5)*COS(ACOS((($C11+$D11*0.5)*($C11+$D11*0.5)+$Q$2-$N$2)/(2*($C11+$D11*0.5)*SQRT($Q$2)))-ATAN(ABS($P$2)/$O$2))","v":996.106674906451},{"$f":"'Calcul CB'!$D$17+($C11+$D11*0.5)*SIN(ACOS((($C11+$D11*0.5)*($C11+$D11*0.5)+$Q$2-$N$2)/(2*($C11+$D11*0.5)*SQRT($Q$2)))-ATAN(ABS($P$2)/$O$2))","v":754.726348787025},{"$f":"'Calcul CB'!$C$17+($C11+$D11)*COS(ACOS((($C11+$D11)*($C11+$D11)+$Q$2-$N$2)/(2*($C11+$D11)*SQRT($Q$2)))-ATAN(ABS($P$2)/$O$2))","v":1171.19670301739},{"$f":"'Calcul CB'!$D$17+($C11+$D11)*SIN(ACOS((($C11+$D11)*($C11+$D11)+$Q$2-$N$2)/(2*($C11+$D11)*SQRT($Q$2)))-ATAN(ABS($P$2)/$O$2))","v":690.859101618932},{"$f":"(H11+J11+L11)/3","v":172.940965783009},{"$f":"'Calcul CB'!$C$17+$C11*COS(ACOS(($C11*$C11+$X$2-$U$2)/(2*$C11*SQRT($X$2)))-ATAN(ABS($W$2)/$V$2))","v":919.999947589815},{"$f":"'Calcul CB'!$D$17+$C11*SIN(ACOS(($C11*$C11+$X$2-$U$2)/(2*$C11*SQRT($X$2)))-ATAN(ABS($W$2)/$V$2))","v":449.751315428564},{"$f":"'Calcul CB'!$C$17+($C11+$D11*0.5)*COS(ACOS((($C11+$D11*0.5)*($C11+$D11*0.5)+$X$2-$U$2)/(2*($C11+$D11*0.5)*SQRT($X$2)))-ATAN(ABS($W$2)/$V$2))","v":1061.23567112595},{"$f":"'Calcul CB'!$D$17+($C11+$D11*0.5)*SIN(ACOS((($C11+$D11*0.5)*($C11+$D11*0.5)+$X$2-$U$2)/(2*($C11+$D11*0.5)*SQRT($X$2)))-ATAN(ABS($W$2)/$V$2))","v":406.980896418187},{"$f":"'Calcul CB'!$C$17+($C11+$D11)*COS(ACOS((($C11+$D11)*($C11+$D11)+$X$2-$U$2)/(2*($C11+$D11)*SQRT($X$2)))-ATAN(ABS($W$2)/$V$2))","v":1197.34971065391},{"$f":"'Calcul CB'!$D$17+($C11+$D11)*SIN(ACOS((($C11+$D11)*($C11+$D11)+$X$2-$U$2)/(2*($C11+$D11)*SQRT($X$2)))-ATAN(ABS($W$2)/$V$2))","v":334.546635265271},null,{"$f":"'Calcul CB'!$C$17+$C11*COS(ACOS(($C11*$C11+$AE$2-$AB$2)/(2*$C11*SQRT($AE$2)))-ATAN(ABS($AD$2)/$AC$2))","v":356.864044216871},{"$f":"'Calcul CB'!$D$17+$C11*SIN(ACOS(($C11*$C11+$AE$2-$AB$2)/(2*$C11*SQRT($AE$2)))-ATAN(ABS($AD$2)/$AC$2))","v":1039.38809211615},{"$f":"'Calcul CB'!$C$17+($C11+$D11*0.5)*COS(ACOS((($C11+$D11*0.5)*($C11+$D11*0.5)+$AE$2-$AB$2)/(2*($C11+$D11*0.5)*SQRT($AE$2)))-ATAN(ABS($AD$2)/$AC$2))","v":600.12840380176},{"$f":"'Calcul CB'!$D$17+($C11+$D11*0.5)*SIN(ACOS((($C11+$D11*0.5)*($C11+$D11*0.5)+$AE$2-$AB$2)/(2*($C11+$D11*0.5)*SQRT($AE$2)))-ATAN(ABS($AD$2)/$AC$2))","v":1130.8721579412},{"$f":"'Calcul CB'!$C$17+($C11+$D11)*COS(ACOS((($C11+$D11)*($C11+$D11)+$AE$2-$AB$2)/(2*($C11+$D11)*SQRT($AE$2)))-ATAN(ABS($AD$2)/$AC$2))","v":875.181450539025},{"$f":"'Calcul CB'!$D$17+($C11+$D11)*SIN(ACOS((($C11+$D11)*($C11+$D11)+$AE$2-$AB$2)/(2*($C11+$D11)*SQRT($AE$2)))-ATAN(ABS($AD$2)/$AC$2))","v":1134.39914230525}]
["Vérin nu, R/R, cat1, l0=550mm, c=285mm",1,550,285,"TENNN305028511",null,{"$f":"'Calcul CB'!$J$23-('Choix vérin basc'!$C12+0.5*'Choix vérin basc'!$D12)","v":-105.05772836814},{"$f":"ABS(G12)","v":105.05772836814},{"$f":"'Calcul CB'!$J$24-('Choix vérin basc'!$C12+0.5*'Choix vérin basc'!$D12)","v":-255.8738902776},{"$f":"ABS(I12)","v":255.8738902776},{"$f":"'Calcul CB'!$J$25-('Choix vérin basc'!$C12+0.5*'Choix vérin basc'!$D12)","v":117.891278703289},{"$f":"ABS(K12)","v":117.891278703289},null,{"$f":"'Calcul CB'!$C$17+$C12*COS(ACOS(($C12*$C12+$Q$2-$N$2)/(2*$C12*SQRT($Q$2)))-ATAN(ABS($P$2)/$O$2))","v":774.674406696749},{"$f":"'Calcul CB'!$D$17+$C12*SIN(ACOS(($C12*$C12+$Q$2-$N$2)/(2*$C12*SQRT($Q$2)))-ATAN(ABS($P$2)/$O$2))","v":773.673712292015},{"$f":"'Calcul CB'!$C$17+($C12+$D12*0.5)*COS(ACOS((($C12+$D12*0.5)*($C12+$D12*0.5)+$Q$2-$N$2)/(2*($C12+$D12*0.5)*SQRT($Q$2)))-ATAN(ABS($P$2)/$O$2))","v":946.948754040282},{"$f":"'Calcul CB'!$D$17+($C12+$D12*0.5)*SIN(ACOS((($C12+$D12*0.5)*($C12+$D12*0.5)+$Q$2-$N$2)/(2*($C12+$D12*0.5)*SQRT($Q$2)))-ATAN(ABS($P$2)/$O$2))","v":764.532168288307},{"$f":"'Calcul CB'!$C$17+($C12+$D12)*COS(ACOS((($C12+$D12)*($C12+$D12)+$Q$2-$N$2)/(2*($C12+$D12)*SQRT($Q$2)))-ATAN(ABS($P$2)/$O$2))","v":1122.29643365226},{"$f":"'Calcul CB'!$D$17+($C12+$D12)*SIN(ACOS((($C12+$D12)*($C12+$D12)+$Q$2-$N$2)/(2*($C12+$D12)*SQRT($Q$2)))-ATAN(ABS($P$2)/$O$2))","v":713.612141643572},{"$f":"(H12+J12+L12)/3","v":159.607632449676},{"$f":"'Calcul CB'!$C$17+$C12*COS(ACOS(($C12*$C12+$X$2-$U$2)/(2*$C12*SQRT($X$2)))-ATAN(ABS($W$2)/$V$2))","v":879.958863177799},{"$f":"'Calcul CB'!$D$17+$C12*SIN(ACOS(($C12*$C12+$X$2-$U$2)/(2*$C12*SQRT($X$2)))-ATAN(ABS($W$2)/$V$2))","v":456.726723733232},{"$f":"'Calcul CB'!$C$17+($C12+$D12*0.5)*COS(ACOS((($C12+$D12*0.5)*($C12+$D12*0.5)+$X$2-$U$2)/(2*($C12+$D12*0.5)*SQRT($X$2)))-ATAN(ABS($W$2)/$V$2))","v":1021.92877535625},{"$f":"'Calcul CB'!$D$17+($C12+$D12*0.5)*SIN(ACOS((($C12+$D12*0.5)*($C12+$D12*0.5)+$X$2-$U$2)/(2*($C12+$D12*0.5)*SQRT($X$2)))-ATAN(ABS($W$2)/$V$2))","v":421.878480944226},{"$f":"'Calcul CB'!$C$17+($C12+$D12)*COS(ACOS((($C12+$D12)*($C12+$D12)+$X$2-$U$2)/(2*($C12+$D12)*SQRT($X$2)))-ATAN(ABS($W$2)/$V$2))","v":1159.91880572217},{"$f":"'Calcul CB'!$D$17+($C12+$D12)*SIN(ACOS((($C12+$D12)*($C12+$D12)+$X$2-$U$2)/(2*($C12+$D12)*SQRT($X$2)))-ATAN(ABS($W$2)/$V$2))","v":358.022959882951},null,{"$f":"'Calcul CB'!$C$17+$C12*COS(ACOS(($C12*$C12+$AE$2-$AB$2)/(2*$C12*SQRT($AE$2)))-ATAN(ABS($AD$2)/$AC$2))","v":294.475947054737},{"$f":"'Calcul CB'!$D$17+$C12*SIN(ACOS(($C12*$C12+$AE$2-$AB$2)/(2*$C12*SQRT($AE$2)))-ATAN(ABS($AD$2)/$AC$2))","v":998.851566147298},{"$f":"'Calcul CB'!$C$17+($C12+$D12*0.5)*COS(ACOS((($C12+$D12*0.5)*($C12+$D12*0.5)+$AE$2-$AB$2)/(2*($C12+$D12*0.5)*SQRT($AE$2)))-ATAN(ABS($AD$2)/$AC$2))","v":528.512804060554},{"$f":"'Calcul CB'!$D$17+($C12+$D12*0.5)*SIN(ACOS((($C12+$D12*0.5)*($C12+$D12*0.5)+$AE$2-$AB$2)/(2*($C12+$D12*0.5)*SQRT($AE$2)))-ATAN(ABS($AD$2)/$AC$2))","v":1113.43719870385},{"$f":"'Calcul CB'!$C$17+($C12+$D12)*COS(ACOS((($C12+$D12)*($C12+$D12)+$AE$2-$AB$2)/(2*($C12+$D12)*SQRT($AE$2)))-ATAN(ABS($AD$2)/$AC$2))","v":795.003979856245},{"$f":"'Calcul CB'!$D$17+($C12+$D12)*SIN(ACOS((($C12+$D12)*($C12+$D12)+$AE$2-$AB$2)/(2*($C12+$D12)*SQRT($AE$2)))-ATAN(ABS($AD$2)/$AC$2))","v":1143.53896697868}]
["Vérin équipé, R/R, cat1, l0=390mm, c=150mm",1,390,150,"TEVHN305015011",null,{"$f":"'Calcul CB'!$J$23-('Choix vérin basc'!$C13+0.5*'Choix vérin basc'!$D13)","v":122.44227163186},{"$f":"ABS(G13)","v":122.44227163186},{"$f":"'Calcul CB'!$J$24-('Choix vérin basc'!$C13+0.5*'Choix vérin basc'!$D13)","v":-28.3738902775997},{"$f":"ABS(I13)","v":28.3738902775997},{"$f":"'Calcul CB'!$J$25-('Choix vérin basc'!$C13+0.5*'Choix vérin basc'!$D13)","v":345.391278703289},{"$f":"ABS(K13)","v":345.391278703289},null,{"$f":"'Calcul CB'!$C$17+$C13*COS(ACOS(($C13*$C13+$Q$2-$N$2)/(2*$C13*SQRT($Q$2)))-ATAN(ABS($P$2)/$O$2))","v":590.500750056724},{"$f":"'Calcul CB'!$D$17+$C13*SIN(ACOS(($C13*$C13+$Q$2-$N$2)/(2*$C13*SQRT($Q$2)))-ATAN(ABS($P$2)/$O$2))","v":740.240175061766},{"$f":"'Calcul CB'!$C$17+($C13+$D13*0.5)*COS(ACOS((($C13+$D13*0.5)*($C13+$D13*0.5)+$Q$2-$N$2)/(2*($C13+$D13*0.5)*SQRT($Q$2)))-ATAN(ABS($P$2)/$O$2))","v":675.349918755352},{"$f":"'Calcul CB'!$D$17+($C13+$D13*0.5)*SIN(ACOS((($C13+$D13*0.5)*($C13+$D13*0.5)+$Q$2-$N$2)/(2*($C13+$D13*0.5)*SQRT($Q$2)))-ATAN(ABS($P$2)/$O$2))","v":761.381492089161},{"$f":"'Calcul CB'!$C$17+($C13+$D13)*COS(ACOS((($C13+$D13)*($C13+$D13)+$Q$2-$N$2)/(2*($C13+$D13)*SQRT($Q$2)))-ATAN(ABS($P$2)/$O$2))","v":762.831148251629},{"$f":"'Calcul CB'!$D$17+($C13+$D13)*SIN(ACOS((($C13+$D13)*($C13+$D13)+$Q$2-$N$2)/(2*($C13+$D13)*SQRT($Q$2)))-ATAN(ABS($P$2)/$O$2))","v":772.888830873996},{"$f":"(H13+J13+L13)/3","v":165.402480204249},{"$f":"'Calcul CB'!$C$17+$C13*COS(ACOS(($C13*$C13+$X$2-$U$2)/(2*$C13*SQRT($X$2)))-ATAN(ABS($W$2)/$V$2))","v":719.764251865692},{"$f":"'Calcul CB'!$D$17+$C13*SIN(ACOS(($C13*$C13+$X$2-$U$2)/(2*$C13*SQRT($X$2)))-ATAN(ABS($W$2)/$V$2))","v":463.558317284142},{"$f":"'Calcul CB'!$C$17+($C13+$D13*0.5)*COS(ACOS((($C13+$D13*0.5)*($C13+$D13*0.5)+$X$2-$U$2)/(2*($C13+$D13*0.5)*SQRT($X$2)))-ATAN(ABS($W$2)/$V$2))","v":794.773772851272},{"$f":"'Calcul CB'!$D$17+($C13+$D13*0.5)*SIN(ACOS((($C13+$D13*0.5)*($C13+$D13*0.5)+$X$2-$U$2)/(2*($C13+$D13*0.5)*SQRT($X$2)))-ATAN(ABS($W$2)/$V$2))","v":464.503105515505},{"$f":"'Calcul CB'!$C$17+($C13+$D13)*COS(ACOS((($C13+$D13)*($C13+$D13)+$X$2-$U$2)/(2*($C13+$D13)*SQRT($X$2)))-ATAN(ABS($W$2)/$V$2))","v":869.938706168018},{"$f":"'Calcul CB'!$D$17+($C13+$D13)*SIN(ACOS((($C13+$D13)*($C13+$D13)+$X$2-$U$2)/(2*($C13+$D13)*SQRT($X$2)))-ATAN(ABS($W$2)/$V$2))","v":458.135943805549},null,{"$f":"'Calcul CB'!$C$17+$C13*COS(ACOS(($C13*$C13+$AE$2-$AB$2)/(2*$C13*SQRT($AE$2)))-ATAN(ABS($AD$2)/$AC$2))","v":63.7581404476895},{"$f":"'Calcul CB'!$D$17+$C13*SIN(ACOS(($C13*$C13+$AE$2-$AB$2)/(2*$C13*SQRT($AE$2)))-ATAN(ABS($AD$2)/$AC$2))","v":734.982933212022},{"$f":"'Calcul CB'!$C$17+($C13+$D13*0.5)*COS(ACOS((($C13+$D13*0.5)*($C13+$D13*0.5)+$AE$2-$AB$2)/(2*($C13+$D13*0.5)*SQRT($AE$2)))-ATAN(ABS($AD$2)/$AC$2))","v":169.596428158719},{"$f":"'Calcul CB'!$D$17+($C13+$D13*0.5)*SIN(ACOS((($C13+$D13*0.5)*($C13+$D13*0.5)+$AE$2-$AB$2)/(2*($C13+$D13*0.5)*SQRT($AE$2)))-ATAN(ABS($AD$2)/$AC$2))","v":886.458124154608},{"$f":"'Calcul CB'!$C$17+($C13+$D13)*COS(ACOS((($C13+$D13)*($C13+$D13)+$AE$2-$AB$2)/(2*($C13+$D13)*SQRT($AE$2)))-ATAN(ABS($AD$2)/$AC$2))","v":279.265856626747},{"$f":"'Calcul CB'!$D$17+($C13+$D13)*SIN(ACOS((($C13+$D13)*($C13+$D13)+$AE$2-$AB$2)/(2*($C13+$D13)*SQRT($AE$2)))-ATAN(ABS($AD$2)/$AC$2))","v":987.611427237352}]
["Vérin nu, R/R, cat2, l0=580mm, c=300mm",2,580,300,"TENNN356030022",null,{"$f":"'Calcul CB'!$J$23-('Choix vérin basc'!$C14+0.5*'Choix vérin basc'!$D14)","v":-142.55772836814},{"$f":"ABS(G14)","v":142.55772836814},{"$f":"'Calcul CB'!$J$24-('Choix vérin basc'!$C14+0.5*'Choix vérin basc'!$D14)","v":-293.3738902776},{"$f":"ABS(I14)","v":293.3738902776},{"$f":"'Calcul CB'!$J$25-('Choix vérin basc'!$C14+0.5*'Choix vérin basc'!$D14)","v":80.3912787032886},{"$f":"ABS(K14)","v":80.3912787032886},null,{"$f":"'Calcul CB'!$C$17+$C14*COS(ACOS(($C14*$C14+$Q$2-$N$2)/(2*$C14*SQRT($Q$2)))-ATAN(ABS($P$2)/$O$2))","v":810.430250271884},{"$f":"'Calcul CB'!$D$17+$C14*SIN(ACOS(($C14*$C14+$Q$2-$N$2)/(2*$C14*SQRT($Q$2)))-ATAN(ABS($P$2)/$O$2))","v":774.941186407163},{"$f":"'Calcul CB'!$C$17+($C14+$D14*0.5)*COS(ACOS((($C14+$D14*0.5)*($C14+$D14*0.5)+$Q$2-$N$2)/(2*($C14+$D14*0.5)*SQRT($Q$2)))-ATAN(ABS($P$2)/$O$2))","v":993.029208899824},{"$f":"'Calcul CB'!$D$17+($C14+$D14*0.5)*SIN(ACOS((($C14+$D14*0.5)*($C14+$D14*0.5)+$Q$2-$N$2)/(2*($C14+$D14*0.5)*SQRT($Q$2)))-ATAN(ABS($P$2)/$O$2))","v":755.437830246475},{"$f":"'Calcul CB'!$C$17+($C14+$D14)*COS(ACOS((($C14+$D14)*($C14+$D14)+$Q$2-$N$2)/(2*($C14+$D14)*SQRT($Q$2)))-ATAN(ABS($P$2)/$O$2))","v":1177.27980002381},{"$f":"'Calcul CB'!$D$17+($C14+$D14)*SIN(ACOS((($C14+$D14)*($C14+$D14)+$Q$2-$N$2)/(2*($C14+$D14)*SQRT($Q$2)))-ATAN(ABS($P$2)/$O$2))","v":687.732918359261},{"$f":"(H14+J14+L14)/3","v":172.107632449676},{"$f":"'Calcul CB'!$C$17+$C14*COS(ACOS(($C14*$C14+$X$2-$U$2)/(2*$C14*SQRT($X$2)))-ATAN(ABS($W$2)/$V$2))","v":909.997517270325},{"$f":"'Calcul CB'!$D$17+$C14*SIN(ACOS(($C14*$C14+$X$2-$U$2)/(2*$C14*SQRT($X$2)))-ATAN(ABS($W$2)/$V$2))","v":451.697044565888},{"$f":"'Calcul CB'!$C$17+($C14+$D14*0.5)*COS(ACOS((($C14+$D14*0.5)*($C14+$D14*0.5)+$X$2-$U$2)/(2*($C14+$D14*0.5)*SQRT($X$2)))-ATAN(ABS($W$2)/$V$2))","v":1058.78961386511},{"$f":"'Calcul CB'!$D$17+($C14+$D14*0.5)*SIN(ACOS((($C14+$D14*0.5)*($C14+$D14*0.5)+$X$2-$U$2)/(2*($C14+$D14*0.5)*SQRT($X$2)))-ATAN(ABS($W$2)/$V$2))","v":407.979781981258},{"$f":"'Calcul CB'!$C$17+($C14+$D14)*COS(ACOS((($C14+$D14)*($C14+$D14)+$X$2-$U$2)/(2*($C14+$D14)*SQRT($X$2)))-ATAN(ABS($W$2)/$V$2))","v":1201.97595052167},{"$f":"'Calcul CB'!$D$17+($C14+$D14)*SIN(ACOS((($C14+$D14)*($C14+$D14)+$X$2-$U$2)/(2*($C14+$D14)*SQRT($X$2)))-ATAN(ABS($W$2)/$V$2))","v":331.433808731877},null,{"$f":"'Calcul CB'!$C$17+$C14*COS(ACOS(($C14*$C14+$AE$2-$AB$2)/(2*$C14*SQRT($AE$2)))-ATAN(ABS($AD$2)/$AC$2))","v":341.030554223202},{"$f":"'Calcul CB'!$D$17+$C14*SIN(ACOS(($C14*$C14+$AE$2-$AB$2)/(2*$C14*SQRT($AE$2)))-ATAN(ABS($AD$2)/$AC$2))","v":1029.8950998875},{"$f":"'Calcul CB'!$C$17+($C14+$D14*0.5)*COS(ACOS((($C14+$D14*0.5)*($C14+$D14*0.5)+$AE$2-$AB$2)/(2*($C14+$D14*0.5)*SQRT($AE$2)))-ATAN(ABS($AD$2)/$AC$2))","v":595.577405093685},{"$f":"'Calcul CB'!$D$17+($C14+$D14*0.5)*SIN(ACOS((($C14+$D14*0.5)*($C14+$D14*0.5)+$AE$2-$AB$2)/(2*($C14+$D14*0.5)*SQRT($AE$2)))-ATAN(ABS($AD$2)/$AC$2))","v":1129.97694218532},{"$f":"'Calcul CB'!$C$17+($C14+$D14)*COS(ACOS((($C14+$D14)*($C14+$D14)+$AE$2-$AB$2)/(2*($C14+$D14)*SQRT($AE$2)))-ATAN(ABS($AD$2)/$AC$2))","v":885.352952751074},{"$f":"'Calcul CB'!$D$17+($C14+$D14)*SIN(ACOS((($C14+$D14)*($C14+$D14)+$AE$2-$AB$2)/(2*($C14+$D14)*SQRT($AE$2)))-ATAN(ABS($AD$2)/$AC$2))","v":1132.62954658487}]
["Vérin nu, R/R, cat2, l0=440mm, c=200mm",2,440,200,"TENNN305020022",null,{"$f":"'Calcul CB'!$J$23-('Choix vérin basc'!$C15+0.5*'Choix vérin basc'!$D15)","v":47.44227163186},{"$f":"ABS(G15)","v":47.44227163186},{"$f":"'Calcul CB'!$J$24-('Choix vérin basc'!$C15+0.5*'Choix vérin basc'!$D15)","v":-103.3738902776},{"$f":"ABS(I15)","v":103.3738902776},{"$f":"'Calcul CB'!$J$25-('Choix vérin basc'!$C15+0.5*'Choix vérin basc'!$D15)","v":270.391278703289},{"$f":"ABS(K15)","v":270.391278703289},null,{"$f":"'Calcul CB'!$C$17+$C15*COS(ACOS(($C15*$C15+$Q$2-$N$2)/(2*$C15*SQRT($Q$2)))-ATAN(ABS($P$2)/$O$2))","v":646.760445055808},{"$f":"'Calcul CB'!$D$17+$C15*SIN(ACOS(($C15*$C15+$Q$2-$N$2)/(2*$C15*SQRT($Q$2)))-ATAN(ABS($P$2)/$O$2))","v":755.389620727435},{"$f":"'Calcul CB'!$C$17+($C15+$D15*0.5)*COS(ACOS((($C15+$D15*0.5)*($C15+$D15*0.5)+$Q$2-$N$2)/(2*($C15+$D15*0.5)*SQRT($Q$2)))-ATAN(ABS($P$2)/$O$2))","v":762.831148251629},{"$f":"'Calcul CB'!$D$17+($C15+$D15*0.5)*SIN(ACOS((($C15+$D15*0.5)*($C15+$D15*0.5)+$Q$2-$N$2)/(2*($C15+$D15*0.5)*SQRT($Q$2)))-ATAN(ABS($P$2)/$O$2))","v":772.888830873996},{"$f":"'Calcul CB'!$C$17+($C15+$D15)*COS(ACOS((($C15+$D15)*($C15+$D15)+$Q$2-$N$2)/(2*($C15+$D15)*SQRT($Q$2)))-ATAN(ABS($P$2)/$O$2))","v":882.835207796012},{"$f":"'Calcul CB'!$D$17+($C15+$D15)*SIN(ACOS((($C15+$D15)*($C15+$D15)+$Q$2-$N$2)/(2*($C15+$D15)*SQRT($Q$2)))-ATAN(ABS($P$2)/$O$2))","v":772.448806822324},{"$f":"(H15+J15+L15)/3","v":140.402480204249},{"$f":"'Calcul CB'!$C$17+$C15*COS(ACOS(($C15*$C15+$X$2-$U$2)/(2*$C15*SQRT($X$2)))-ATAN(ABS($W$2)/$V$2))","v":769.744398067925},{"$f":"'Calcul CB'!$D$17+$C15*SIN(ACOS(($C15*$C15+$X$2-$U$2)/(2*$C15*SQRT($X$2)))-ATAN(ABS($W$2)/$V$2))","v":464.995478247728},{"$f":"'Calcul CB'!$C$17+($C15+$D15*0.5)*COS(ACOS((($C15+$D15*0.5)*($C15+$D15*0.5)+$X$2-$U$2)/(2*($C15+$D15*0.5)*SQRT($X$2)))-ATAN(ABS($W$2)/$V$2))","v":869.938706168018},{"$f":"'Calcul CB'!$D$17+($C15+$D15*0.5)*SIN(ACOS((($C15+$D15*0.5)*($C15+$D15*0.5)+$X$2-$U$2)/(2*($C15+$D15*0.5)*SQRT($X$2)))-ATAN(ABS($W$2)/$V$2))","v":458.135943805549},{"$f":"'Calcul CB'!$C$17+($C15+$D15)*COS(ACOS((($C15+$D15)*($C15+$D15)+$X$2-$U$2)/(2*($C15+$D15)*SQRT($X$2)))-ATAN(ABS($W$2)/$V$2))","v":969.887059967509},{"$f":"'Calcul CB'!$D$17+($C15+$D15)*SIN(ACOS((($C15+$D15)*($C15+$D15)+$X$2-$U$2)/(2*($C15+$D15)*SQRT($X$2)))-ATAN(ABS($W$2)/$V$2))","v":437.977084956721},null,{"$f":"'Calcul CB'!$C$17+$C15*COS(ACOS(($C15*$C15+$AE$2-$AB$2)/(2*$C15*SQRT($AE$2)))-ATAN(ABS($AD$2)/$AC$2))","v":134.38322231106},{"$f":"'Calcul CB'!$D$17+$C15*SIN(ACOS(($C15*$C15+$AE$2-$AB$2)/(2*$C15*SQRT($AE$2)))-ATAN(ABS($AD$2)/$AC$2))","v":844.124442640387},{"$f":"'Calcul CB'!$C$17+($C15+$D15*0.5)*COS(ACOS((($C15+$D15*0.5)*($C15+$D15*0.5)+$AE$2-$AB$2)/(2*($C15+$D15*0.5)*SQRT($AE$2)))-ATAN(ABS($AD$2)/$AC$2))","v":279.265856626747},{"$f":"'Calcul CB'!$D$17+($C15+$D15*0.5)*SIN(ACOS((($C15+$D15*0.5)*($C15+$D15*0.5)+$AE$2-$AB$2)/(2*($C15+$D15*0.5)*SQRT($AE$2)))-ATAN(ABS($AD$2)/$AC$2))","v":987.611427237352},{"$f":"'Calcul CB'!$C$17+($C15+$D15)*COS(ACOS((($C15+$D15)*($C15+$D15)+$AE$2-$AB$2)/(2*($C15+$D15)*SQRT($AE$2)))-ATAN(ABS($AD$2)/$AC$2))","v":438.454051885509},{"$f":"'Calcul CB'!$D$17+($C15+$D15)*SIN(ACOS((($C15+$D15)*($C15+$D15)+$AE$2-$AB$2)/(2*($C15+$D15)*SQRT($AE$2)))-ATAN(ABS($AD$2)/$AC$2))","v":1080.74378207765}]
["Vérin sans flexible, R/R, cat.2, l0=550mm, c=250mm",2,550,250,"TEVNN356025022",null,{"$f":"'Calcul CB'!$J$23-('Choix vérin basc'!$C16+0.5*'Choix vérin basc'!$D16)","v":-87.55772836814},{"$f":"ABS(G16)","v":87.55772836814},{"$f":"'Calcul CB'!$J$24-('Choix vérin basc'!$C16+0.5*'Choix vérin basc'!$D16)","v":-238.3738902776},{"$f":"ABS(I16)","v":238.3738902776},{"$f":"'Calcul CB'!$J$25-('Choix vérin basc'!$C16+0.5*'Choix vérin basc'!$D16)","v":135.391278703289},{"$f":"ABS(K16)","v":135.391278703289},null,{"$f":"'Calcul CB'!$C$17+$C16*COS(ACOS(($C16*$C16+$Q$2-$N$2)/(2*$C16*SQRT($Q$2)))-ATAN(ABS($P$2)/$O$2))","v":774.674406696749},{"$f":"'Calcul CB'!$D$17+$C16*SIN(ACOS(($C16*$C16+$Q$2-$N$2)/(2*$C16*SQRT($Q$2)))-ATAN(ABS($P$2)/$O$2))","v":773.673712292015},{"$f":"'Calcul CB'!$C$17+($C16+$D16*0.5)*COS(ACOS((($C16+$D16*0.5)*($C16+$D16*0.5)+$Q$2-$N$2)/(2*($C16+$D16*0.5)*SQRT($Q$2)))-ATAN(ABS($P$2)/$O$2))","v":925.515292775249},{"$f":"'Calcul CB'!$D$17+($C16+$D16*0.5)*SIN(ACOS((($C16+$D16*0.5)*($C16+$D16*0.5)+$Q$2-$N$2)/(2*($C16+$D16*0.5)*SQRT($Q$2)))-ATAN(ABS($P$2)/$O$2))","v":767.78378824416},{"$f":"'Calcul CB'!$C$17+($C16+$D16)*COS(ACOS((($C16+$D16)*($C16+$D16)+$Q$2-$N$2)/(2*($C16+$D16)*SQRT($Q$2)))-ATAN(ABS($P$2)/$O$2))","v":1079.27068539797},{"$f":"'Calcul CB'!$D$17+($C16+$D16)*SIN(ACOS((($C16+$D16)*($C16+$D16)+$Q$2-$N$2)/(2*($C16+$D16)*SQRT($Q$2)))-ATAN(ABS($P$2)/$O$2))","v":730.345215766674},{"$f":"(H16+J16+L16)/3","v":153.774299116343},{"$f":"'Calcul CB'!$C$17+$C16*COS(ACOS(($C16*$C16+$X$2-$U$2)/(2*$C16*SQRT($X$2)))-ATAN(ABS($W$2)/$V$2))","v":879.958863177799},{"$f":"'Calcul CB'!$D$17+$C16*SIN(ACOS(($C16*$C16+$X$2-$U$2)/(2*$C16*SQRT($X$2)))-ATAN(ABS($W$2)/$V$2))","v":456.726723733232},{"$f":"'Calcul CB'!$C$17+($C16+$D16*0.5)*COS(ACOS((($C16+$D16*0.5)*($C16+$D16*0.5)+$X$2-$U$2)/(2*($C16+$D16*0.5)*SQRT($X$2)))-ATAN(ABS($W$2)/$V$2))","v":1004.63074060739},{"$f":"'Calcul CB'!$D$17+($C16+$D16*0.5)*SIN(ACOS((($C16+$D16*0.5)*($C16+$D16*0.5)+$X$2-$U$2)/(2*($C16+$D16*0.5)*SQRT($X$2)))-ATAN(ABS($W$2)/$V$2))","v":427.675936133325},{"$f":"'Calcul CB'!$C$17+($C16+$D16)*COS(ACOS((($C16+$D16)*($C16+$D16)+$X$2-$U$2)/(2*($C16+$D16)*SQRT($X$2)))-ATAN(ABS($W$2)/$V$2))","v":1126.61851539104},{"$f":"'Calcul CB'!$D$17+($C16+$D16)*SIN(ACOS((($C16+$D16)*($C16+$D16)+$X$2-$U$2)/(2*($C16+$D16)*SQRT($X$2)))-ATAN(ABS($W$2)/$V$2))","v":376.522514086428},null,{"$f":"'Calcul CB'!$C$17+$C16*COS(ACOS(($C16*$C16+$AE$2-$AB$2)/(2*$C16*SQRT($AE$2)))-ATAN(ABS($AD$2)/$AC$2))","v":294.475947054737},{"$f":"'Calcul CB'!$D$17+$C16*SIN(ACOS(($C16*$C16+$AE$2-$AB$2)/(2*$C16*SQRT($AE$2)))-ATAN(ABS($AD$2)/$AC$2))","v":998.851566147298},{"$f":"'Calcul CB'!$C$17+($C16+$D16*0.5)*COS(ACOS((($C16+$D16*0.5)*($C16+$D16*0.5)+$AE$2-$AB$2)/(2*($C16+$D16*0.5)*SQRT($AE$2)))-ATAN(ABS($AD$2)/$AC$2))","v":497.993643291492},{"$f":"'Calcul CB'!$D$17+($C16+$D16*0.5)*SIN(ACOS((($C16+$D16*0.5)*($C16+$D16*0.5)+$AE$2-$AB$2)/(2*($C16+$D16*0.5)*SQRT($AE$2)))-ATAN(ABS($AD$2)/$AC$2))","v":1103.76076344},{"$f":"'Calcul CB'!$C$17+($C16+$D16)*COS(ACOS((($C16+$D16)*($C16+$D16)+$AE$2-$AB$2)/(2*($C16+$D16)*SQRT($AE$2)))-ATAN(ABS($AD$2)/$AC$2))","v":726.687058197408},{"$f":"'Calcul CB'!$D$17+($C16+$D16)*SIN(ACOS((($C16+$D16)*($C16+$D16)+$AE$2-$AB$2)/(2*($C16+$D16)*SQRT($AE$2)))-ATAN(ABS($AD$2)/$AC$2))","v":1144.7225186063}]
["Vérin sans flexible, R/C, cat.1, l0=490mm, c=200mm",1,490,200,"TCVNN305020011",null,{"$f":"'Calcul CB'!$J$23-('Choix vérin basc'!$C17+0.5*'Choix vérin basc'!$D17)","v":-2.55772836814003},{"$f":"ABS(G17)","v":2.55772836814003},{"$f":"'Calcul CB'!$J$24-('Choix vérin basc'!$C17+0.5*'Choix vérin basc'!$D17)","v":-153.3738902776},{"$f":"ABS(I17)","v":153.3738902776},{"$f":"'Calcul CB'!$J$25-('Choix vérin basc'!$C17+0.5*'Choix vérin basc'!$D17)","v":220.391278703289},{"$f":"ABS(K17)","v":220.391278703289},null,{"$f":"'Calcul CB'!$C$17+$C17*COS(ACOS(($C17*$C17+$Q$2-$N$2)/(2*$C17*SQRT($Q$2)))-ATAN(ABS($P$2)/$O$2))","v":704.233923305139},{"$f":"'Calcul CB'!$D$17+$C17*SIN(ACOS(($C17*$C17+$Q$2-$N$2)/(2*$C17*SQRT($Q$2)))-ATAN(ABS($P$2)/$O$2))","v":766.305185932263},{"$f":"'Calcul CB'!$C$17+($C17+$D17*0.5)*COS(ACOS((($C17+$D17*0.5)*($C17+$D17*0.5)+$Q$2-$N$2)/(2*($C17+$D17*0.5)*SQRT($Q$2)))-ATAN(ABS($P$2)/$O$2))","v":822.419819217513},{"$f":"'Calcul CB'!$D$17+($C17+$D17*0.5)*SIN(ACOS((($C17+$D17*0.5)*($C17+$D17*0.5)+$Q$2-$N$2)/(2*($C17+$D17*0.5)*SQRT($Q$2)))-ATAN(ABS($P$2)/$O$2))","v":774.996494814625},{"$f":"'Calcul CB'!$C$17+($C17+$D17)*COS(ACOS((($C17+$D17)*($C17+$D17)+$Q$2-$N$2)/(2*($C17+$D17)*SQRT($Q$2)))-ATAN(ABS($P$2)/$O$2))","v":943.883589073106},{"$f":"'Calcul CB'!$D$17+($C17+$D17)*SIN(ACOS((($C17+$D17)*($C17+$D17)+$Q$2-$N$2)/(2*($C17+$D17)*SQRT($Q$2)))-ATAN(ABS($P$2)/$O$2))","v":765.034821990716},{"$f":"(H17+J17+L17)/3","v":125.440965783009},{"$f":"'Calcul CB'!$C$17+$C17*COS(ACOS(($C17*$C17+$X$2-$U$2)/(2*$C17*SQRT($X$2)))-ATAN(ABS($W$2)/$V$2))","v":819.822190290211},{"$f":"'Calcul CB'!$D$17+$C17*SIN(ACOS(($C17*$C17+$X$2-$U$2)/(2*$C17*SQRT($X$2)))-ATAN(ABS($W$2)/$V$2))","v":463.199314349629},{"$f":"'Calcul CB'!$C$17+($C17+$D17*0.5)*COS(ACOS((($C17+$D17*0.5)*($C17+$D17*0.5)+$X$2-$U$2)/(2*($C17+$D17*0.5)*SQRT($X$2)))-ATAN(ABS($W$2)/$V$2))","v":919.999947589815},{"$f":"'Calcul CB'!$D$17+($C17+$D17*0.5)*SIN(ACOS((($C17+$D17*0.5)*($C17+$D17*0.5)+$X$2-$U$2)/(2*($C17+$D17*0.5)*SQRT($X$2)))-ATAN(ABS($W$2)/$V$2))","v":449.751315428564},{"$f":"'Calcul CB'!$C$17+($C17+$D17)*COS(ACOS((($C17+$D17)*($C17+$D17)+$X$2-$U$2)/(2*($C17+$D17)*SQRT($X$2)))-ATAN(ABS($W$2)/$V$2))","v":1019.46104192948},{"$f":"'Calcul CB'!$D$17+($C17+$D17)*SIN(ACOS((($C17+$D17)*($C17+$D17)+$X$2-$U$2)/(2*($C17+$D17)*SQRT($X$2)))-ATAN(ABS($W$2)/$V$2))","v":422.733323240409},null,{"$f":"'Calcul CB'!$C$17+$C17*COS(ACOS(($C17*$C17+$AE$2-$AB$2)/(2*$C17*SQRT($AE$2)))-ATAN(ABS($AD$2)/$AC$2))","v":205.366394666578},{"$f":"'Calcul CB'!$D$17+$C17*SIN(ACOS(($C17*$C17+$AE$2-$AB$2)/(2*$C17*SQRT($AE$2)))-ATAN(ABS($AD$2)/$AC$2))","v":923.884442054804},{"$f":"'Calcul CB'!$C$17+($C17+$D17*0.5)*COS(ACOS((($C17+$D17*0.5)*($C17+$D17*0.5)+$AE$2-$AB$2)/(2*($C17+$D17*0.5)*SQRT($AE$2)))-ATAN(ABS($AD$2)/$AC$2))","v":356.864044216871},{"$f":"'Calcul CB'!$D$17+($C17+$D17*0.5)*SIN(ACOS((($C17+$D17*0.5)*($C17+$D17*0.5)+$AE$2-$AB$2)/(2*($C17+$D17*0.5)*SQRT($AE$2)))-ATAN(ABS($AD$2)/$AC$2))","v":1039.38809211615},{"$f":"'Calcul CB'!$C$17+($C17+$D17)*COS(ACOS((($C17+$D17)*($C17+$D17)+$AE$2-$AB$2)/(2*($C17+$D17)*SQRT($AE$2)))-ATAN(ABS($AD$2)/$AC$2))","v":524.122457239863},{"$f":"'Calcul CB'!$D$17+($C17+$D17)*SIN(ACOS((($C17+$D17)*($C17+$D17)+$AE$2-$AB$2)/(2*($C17+$D17)*SQRT($AE$2)))-ATAN(ABS($AD$2)/$AC$2))","v":1112.13025274122}]
["Vérin nu, R/R, cat2, l0 = 480mm, c=160mm ",2,480,160,"TEVNN305016022  ",null,{"$f":"'Calcul CB'!$J$23-('Choix vérin basc'!$C18+0.5*'Choix vérin basc'!$D18)","v":27.44227163186},{"$f":"ABS(G18)","v":27.44227163186},{"$f":"'Calcul CB'!$J$24-('Choix vérin basc'!$C18+0.5*'Choix vérin basc'!$D18)","v":-123.3738902776},{"$f":"ABS(I18)","v":123.3738902776},{"$f":"'Calcul CB'!$J$25-('Choix vérin basc'!$C18+0.5*'Choix vérin basc'!$D18)","v":250.391278703289},{"$f":"ABS(K18)","v":250.391278703289},null,{"$f":"'Calcul CB'!$C$17+$C18*COS(ACOS(($C18*$C18+$Q$2-$N$2)/(2*$C18*SQRT($Q$2)))-ATAN(ABS($P$2)/$O$2))","v":692.645745208626},{"$f":"'Calcul CB'!$D$17+$C18*SIN(ACOS(($C18*$C18+$Q$2-$N$2)/(2*$C18*SQRT($Q$2)))-ATAN(ABS($P$2)/$O$2))","v":764.464725338281},{"$f":"'Calcul CB'!$C$17+($C18+$D18*0.5)*COS(ACOS((($C18+$D18*0.5)*($C18+$D18*0.5)+$Q$2-$N$2)/(2*($C18+$D18*0.5)*SQRT($Q$2)))-ATAN(ABS($P$2)/$O$2))","v":786.556199909248},{"$f":"'Calcul CB'!$D$17+($C18+$D18*0.5)*SIN(ACOS((($C18+$D18*0.5)*($C18+$D18*0.5)+$Q$2-$N$2)/(2*($C18+$D18*0.5)*SQRT($Q$2)))-ATAN(ABS($P$2)/$O$2))","v":774.278331567848},{"$f":"'Calcul CB'!$C$17+($C18+$D18)*COS(ACOS((($C18+$D18)*($C18+$D18)+$Q$2-$N$2)/(2*($C18+$D18)*SQRT($Q$2)))-ATAN(ABS($P$2)/$O$2))","v":882.835207796012},{"$f":"'Calcul CB'!$D$17+($C18+$D18)*SIN(ACOS((($C18+$D18)*($C18+$D18)+$Q$2-$N$2)/(2*($C18+$D18)*SQRT($Q$2)))-ATAN(ABS($P$2)/$O$2))","v":772.448806822324},{"$f":"(H18+J18+L18)/3","v":133.735813537583},{"$f":"'Calcul CB'!$C$17+$C18*COS(ACOS(($C18*$C18+$X$2-$U$2)/(2*$C18*SQRT($X$2)))-ATAN(ABS($W$2)/$V$2))","v":809.801051646115},{"$f":"'Calcul CB'!$D$17+$C18*SIN(ACOS(($C18*$C18+$X$2-$U$2)/(2*$C18*SQRT($X$2)))-ATAN(ABS($W$2)/$V$2))","v":463.818496274269},{"$f":"'Calcul CB'!$C$17+($C18+$D18*0.5)*COS(ACOS((($C18+$D18*0.5)*($C18+$D18*0.5)+$X$2-$U$2)/(2*($C18+$D18*0.5)*SQRT($X$2)))-ATAN(ABS($W$2)/$V$2))","v":889.976003213782},{"$f":"'Calcul CB'!$D$17+($C18+$D18*0.5)*SIN(ACOS((($C18+$D18*0.5)*($C18+$D18*0.5)+$X$2-$U$2)/(2*($C18+$D18*0.5)*SQRT($X$2)))-ATAN(ABS($W$2)/$V$2))","v":455.184189880665},{"$f":"'Calcul CB'!$C$17+($C18+$D18)*COS(ACOS((($C18+$D18)*($C18+$D18)+$X$2-$U$2)/(2*($C18+$D18)*SQRT($X$2)))-ATAN(ABS($W$2)/$V$2))","v":969.887059967509},{"$f":"'Calcul CB'!$D$17+($C18+$D18)*SIN(ACOS((($C18+$D18)*($C18+$D18)+$X$2-$U$2)/(2*($C18+$D18)*SQRT($X$2)))-ATAN(ABS($W$2)/$V$2))","v":437.977084956721},null,{"$f":"'Calcul CB'!$C$17+$C18*COS(ACOS(($C18*$C18+$AE$2-$AB$2)/(2*$C18*SQRT($AE$2)))-ATAN(ABS($AD$2)/$AC$2))","v":190.976949923543},{"$f":"'Calcul CB'!$D$17+$C18*SIN(ACOS(($C18*$C18+$AE$2-$AB$2)/(2*$C18*SQRT($AE$2)))-ATAN(ABS($AD$2)/$AC$2))","v":909.426372281173},{"$f":"'Calcul CB'!$C$17+($C18+$D18*0.5)*COS(ACOS((($C18+$D18*0.5)*($C18+$D18*0.5)+$AE$2-$AB$2)/(2*($C18+$D18*0.5)*SQRT($AE$2)))-ATAN(ABS($AD$2)/$AC$2))","v":309.838443070525},{"$f":"'Calcul CB'!$D$17+($C18+$D18*0.5)*SIN(ACOS((($C18+$D18*0.5)*($C18+$D18*0.5)+$AE$2-$AB$2)/(2*($C18+$D18*0.5)*SQRT($AE$2)))-ATAN(ABS($AD$2)/$AC$2))","v":1009.63694626265},{"$f":"'Calcul CB'!$C$17+($C18+$D18)*COS(ACOS((($C18+$D18)*($C18+$D18)+$AE$2-$AB$2)/(2*($C18+$D18)*SQRT($AE$2)))-ATAN(ABS($AD$2)/$AC$2))","v":438.454051885509},{"$f":"'Calcul CB'!$D$17+($C18+$D18)*SIN(ACOS((($C18+$D18)*($C18+$D18)+$AE$2-$AB$2)/(2*($C18+$D18)*SQRT($AE$2)))-ATAN(ABS($AD$2)/$AC$2))","v":1080.74378207765}]
["Vérin équipé, R/C, cat2, l0=620mm, c=300mm",2,620,300,"TCVHN356330022",null,{"$f":"'Calcul CB'!$J$23-('Choix vérin basc'!$C19+0.5*'Choix vérin basc'!$D19)","v":-182.55772836814},{"$f":"ABS(G19)","v":182.55772836814},{"$f":"'Calcul CB'!$J$24-('Choix vérin basc'!$C19+0.5*'Choix vérin basc'!$D19)","v":-333.3738902776},{"$f":"ABS(I19)","v":333.3738902776},{"$f":"'Calcul CB'!$J$25-('Choix vérin basc'!$C19+0.5*'Choix vérin basc'!$D19)","v":40.3912787032886},{"$f":"ABS(K19)","v":40.3912787032886},null,{"$f":"'Calcul CB'!$C$17+$C19*COS(ACOS(($C19*$C19+$Q$2-$N$2)/(2*$C19*SQRT($Q$2)))-ATAN(ABS($P$2)/$O$2))","v":858.581605352222},{"$f":"'Calcul CB'!$D$17+$C19*SIN(ACOS(($C19*$C19+$Q$2-$N$2)/(2*$C19*SQRT($Q$2)))-ATAN(ABS($P$2)/$O$2))","v":774.039328605753},{"$f":"'Calcul CB'!$C$17+($C19+$D19*0.5)*COS(ACOS((($C19+$D19*0.5)*($C19+$D19*0.5)+$Q$2-$N$2)/(2*($C19+$D19*0.5)*SQRT($Q$2)))-ATAN(ABS($P$2)/$O$2))","v":1042.30889142951},{"$f":"'Calcul CB'!$D$17+($C19+$D19*0.5)*SIN(ACOS((($C19+$D19*0.5)*($C19+$D19*0.5)+$Q$2-$N$2)/(2*($C19+$D19*0.5)*SQRT($Q$2)))-ATAN(ABS($P$2)/$O$2))","v":742.431262334354},{"$f":"'Calcul CB'!$C$17+($C19+$D19)*COS(ACOS((($C19+$D19)*($C19+$D19)+$Q$2-$N$2)/(2*($C19+$D19)*SQRT($Q$2)))-ATAN(ABS($P$2)/$O$2))","v":1225.62412031219},{"$f":"'Calcul CB'!$D$17+($C19+$D19)*SIN(ACOS((($C19+$D19)*($C19+$D19)+$Q$2-$N$2)/(2*($C19+$D19)*SQRT($Q$2)))-ATAN(ABS($P$2)/$O$2))","v":660.374511562161},{"$f":"(H19+J19+L19)/3","v":185.440965783009},{"$f":"'Calcul CB'!$C$17+$C19*COS(ACOS(($C19*$C19+$X$2-$U$2)/(2*$C19*SQRT($X$2)))-ATAN(ABS($W$2)/$V$2))","v":949.961585872886},{"$f":"'Calcul CB'!$D$17+$C19*SIN(ACOS(($C19*$C19+$X$2-$U$2)/(2*$C19*SQRT($X$2)))-ATAN(ABS($W$2)/$V$2))","v":443.098402940187},{"$f":"'Calcul CB'!$C$17+($C19+$D19*0.5)*COS(ACOS((($C19+$D19*0.5)*($C19+$D19*0.5)+$X$2-$U$2)/(2*($C19+$D19*0.5)*SQRT($X$2)))-ATAN(ABS($W$2)/$V$2))","v":1097.72834580225},{"$f":"'Calcul CB'!$D$17+($C19+$D19*0.5)*SIN(ACOS((($C19+$D19*0.5)*($C19+$D19*0.5)+$X$2-$U$2)/(2*($C19+$D19*0.5)*SQRT($X$2)))-ATAN(ABS($W$2)/$V$2))","v":390.896810139092},{"$f":"'Calcul CB'!$C$17+($C19+$D19)*COS(ACOS((($C19+$D19)*($C19+$D19)+$X$2-$U$2)/(2*($C19+$D19)*SQRT($X$2)))-ATAN(ABS($W$2)/$V$2))","v":1238.51354219702},{"$f":"'Calcul CB'!$D$17+($C19+$D19)*SIN(ACOS((($C19+$D19)*($C19+$D19)+$X$2-$U$2)/(2*($C19+$D19)*SQRT($X$2)))-ATAN(ABS($W$2)/$V$2))","v":305.075386339605},null,{"$f":"'Calcul CB'!$C$17+$C19*COS(ACOS(($C19*$C19+$AE$2-$AB$2)/(2*$C19*SQRT($AE$2)))-ATAN(ABS($AD$2)/$AC$2))","v":405.330334153929},{"$f":"'Calcul CB'!$D$17+$C19*SIN(ACOS(($C19*$C19+$AE$2-$AB$2)/(2*$C19*SQRT($AE$2)))-ATAN(ABS($AD$2)/$AC$2))","v":1065.4066466624},{"$f":"'Calcul CB'!$C$17+($C19+$D19*0.5)*COS(ACOS((($C19+$D19*0.5)*($C19+$D19*0.5)+$AE$2-$AB$2)/(2*($C19+$D19*0.5)*SQRT($AE$2)))-ATAN(ABS($AD$2)/$AC$2))","v":669.572729073263},{"$f":"'Calcul CB'!$D$17+($C19+$D19*0.5)*SIN(ACOS((($C19+$D19*0.5)*($C19+$D19*0.5)+$AE$2-$AB$2)/(2*($C19+$D19*0.5)*SQRT($AE$2)))-ATAN(ABS($AD$2)/$AC$2))","v":1141.07912837079},{"$f":"'Calcul CB'!$C$17+($C19+$D19)*COS(ACOS((($C19+$D19)*($C19+$D19)+$AE$2-$AB$2)/(2*($C19+$D19)*SQRT($AE$2)))-ATAN(ABS($AD$2)/$AC$2))","v":967.832296177132},{"$f":"'Calcul CB'!$D$17+($C19+$D19)*SIN(ACOS((($C19+$D19)*($C19+$D19)+$AE$2-$AB$2)/(2*($C19+$D19)*SQRT($AE$2)))-ATAN(ABS($AD$2)/$AC$2))","v":1113.00072545466}]
[]
[null,"Bras de relevage horizontaux",null,null,null,null,null,null,null,null,null,null,null,null,null,"Bras de relevage bas",null,null,null,null,null,null,null,null,null,"Bras de relevage haut"]
[]
["Vérin rentré"]
[]
[]
[]
[]
[]
[]
[]
[]
[]
[]
[]
[]
[]
[]
[]
[]
[]
[]
[]
[]
[]
[]
[]
[]
["Vérin mi-course"]
[]
[]
[]
[]
[]
[]
[]
[]
[]
[]
[]
[]
[]
[]
[]
[]
[]
[]
[]
[]
[]
[]
[]
[]
["Vérin sorti"]

{"sheet":"Recap vérin et trianges mâles","index":3,"n_rows":11,"n_cols":10,"rows_kept":11,"cut":false,"hidden":false,"merged":[]}
["vérin disponibles"]
["lo","c","lo + 0,5xc",null,null,"Catégorie","H (mm)","X (mm)","diamétre broche  troisième point (mm)","diamétre broche bras de relevage (mm)"]
[390,150,{"$f":"A3+0.5*B3","v":465},null,null,"communal",420,335]
[440,200,{"$f":"A4+0.5*B4","v":540},null,null,"communal",420,370]
[490,200,{"$f":"A5+0.5*B5","v":590},null,null,0,600,480,19,22]
[550,250,{"$f":"A6+0.5*B6","v":675},null,null,1,750,680,19,22]
[550,285,{"$f":"A7+0.5*B7","v":692.5},null,null,2,750,825,25,28]
[580,300,{"$f":"A8+0.5*B8","v":730},null,null,3,750,950,32,36]
[590,285,{"$f":"A9+0.5*B9","v":732.5}]
[610,350,{"$f":"A10+0.5*B10","v":785}]
[620,300,{"$f":"A11+0.5*B11","v":770}]